BEGIN:VCALENDAR
VERSION:2.0
PRODID:-//School of Nursing - ECPv6.15.20//NONSGML v1.0//EN
CALSCALE:GREGORIAN
METHOD:PUBLISH
X-WR-CALNAME:School of Nursing
X-ORIGINAL-URL:https://nursing.uncg.edu
X-WR-CALDESC:Events for School of Nursing
REFRESH-INTERVAL;VALUE=DURATION:PT1H
X-Robots-Tag:noindex
X-PUBLISHED-TTL:PT1H
BEGIN:VTIMEZONE
TZID:America/New_York
BEGIN:DAYLIGHT
TZOFFSETFROM:-0500
TZOFFSETTO:-0400
TZNAME:EDT
DTSTART:20250309T070000
END:DAYLIGHT
BEGIN:STANDARD
TZOFFSETFROM:-0400
TZOFFSETTO:-0500
TZNAME:EST
DTSTART:20251102T060000
END:STANDARD
BEGIN:DAYLIGHT
TZOFFSETFROM:-0500
TZOFFSETTO:-0400
TZNAME:EDT
DTSTART:20260308T070000
END:DAYLIGHT
BEGIN:STANDARD
TZOFFSETFROM:-0400
TZOFFSETTO:-0500
TZNAME:EST
DTSTART:20261101T060000
END:STANDARD
BEGIN:DAYLIGHT
TZOFFSETFROM:-0500
TZOFFSETTO:-0400
TZNAME:EDT
DTSTART:20270314T070000
END:DAYLIGHT
BEGIN:STANDARD
TZOFFSETFROM:-0400
TZOFFSETTO:-0500
TZNAME:EST
DTSTART:20271107T060000
END:STANDARD
END:VTIMEZONE
BEGIN:VEVENT
DTSTART;TZID=America/New_York:20260424T150000
DTEND;TZID=America/New_York:20260424T170000
DTSTAMP:20260422T163109
CREATED:20260413T193628Z
LAST-MODIFIED:20260413T193632Z
UID:10004201-1777042800-1777050000@nursing.uncg.edu
SUMMARY:Partnership Village Food Bank (Minerva's Mobile Health Chariot)
DESCRIPTION:
URL:https://nursing.uncg.edu/event/partnership-village-food-bank-minervas-mobile-health-chariot-2/2026-04-24/
LOCATION:135 Greenbriar Rd\, Greensboro\, NC 27405\, NC\, United States
CATEGORIES:Minerva Mobile Health Unit
END:VEVENT
BEGIN:VEVENT
DTSTART;TZID=America/New_York:20260501T150000
DTEND;TZID=America/New_York:20260501T170000
DTSTAMP:20260422T163109
CREATED:20260413T193628Z
LAST-MODIFIED:20260413T193632Z
UID:10004202-1777647600-1777654800@nursing.uncg.edu
SUMMARY:Partnership Village Food Bank (Minerva's Mobile Health Chariot)
DESCRIPTION:
URL:https://nursing.uncg.edu/event/partnership-village-food-bank-minervas-mobile-health-chariot-2/2026-05-01/
LOCATION:135 Greenbriar Rd\, Greensboro\, NC 27405\, NC\, United States
CATEGORIES:Minerva Mobile Health Unit
END:VEVENT
BEGIN:VEVENT
DTSTART;TZID=America/New_York:20260508T150000
DTEND;TZID=America/New_York:20260508T170000
DTSTAMP:20260422T163109
CREATED:20260413T193628Z
LAST-MODIFIED:20260413T193632Z
UID:10004203-1778252400-1778259600@nursing.uncg.edu
SUMMARY:Partnership Village Food Bank (Minerva's Mobile Health Chariot)
DESCRIPTION:
URL:https://nursing.uncg.edu/event/partnership-village-food-bank-minervas-mobile-health-chariot-2/2026-05-08/
LOCATION:135 Greenbriar Rd\, Greensboro\, NC 27405\, NC\, United States
CATEGORIES:Minerva Mobile Health Unit
END:VEVENT
BEGIN:VEVENT
DTSTART;TZID=America/New_York:20260515T150000
DTEND;TZID=America/New_York:20260515T170000
DTSTAMP:20260422T163109
CREATED:20260413T193628Z
LAST-MODIFIED:20260413T193632Z
UID:10004204-1778857200-1778864400@nursing.uncg.edu
SUMMARY:Partnership Village Food Bank (Minerva's Mobile Health Chariot)
DESCRIPTION:
URL:https://nursing.uncg.edu/event/partnership-village-food-bank-minervas-mobile-health-chariot-2/2026-05-15/
LOCATION:135 Greenbriar Rd\, Greensboro\, NC 27405\, NC\, United States
CATEGORIES:Minerva Mobile Health Unit
END:VEVENT
BEGIN:VEVENT
DTSTART;TZID=America/New_York:20260522T150000
DTEND;TZID=America/New_York:20260522T170000
DTSTAMP:20260422T163109
CREATED:20260413T193628Z
LAST-MODIFIED:20260413T193632Z
UID:10004205-1779462000-1779469200@nursing.uncg.edu
SUMMARY:Partnership Village Food Bank (Minerva's Mobile Health Chariot)
DESCRIPTION:
URL:https://nursing.uncg.edu/event/partnership-village-food-bank-minervas-mobile-health-chariot-2/2026-05-22/
LOCATION:135 Greenbriar Rd\, Greensboro\, NC 27405\, NC\, United States
CATEGORIES:Minerva Mobile Health Unit
END:VEVENT
BEGIN:VEVENT
DTSTART;TZID=America/New_York:20260529T150000
DTEND;TZID=America/New_York:20260529T170000
DTSTAMP:20260422T163109
CREATED:20260413T193628Z
LAST-MODIFIED:20260413T193632Z
UID:10004206-1780066800-1780074000@nursing.uncg.edu
SUMMARY:Partnership Village Food Bank (Minerva's Mobile Health Chariot)
DESCRIPTION:
URL:https://nursing.uncg.edu/event/partnership-village-food-bank-minervas-mobile-health-chariot-2/2026-05-29/
LOCATION:135 Greenbriar Rd\, Greensboro\, NC 27405\, NC\, United States
CATEGORIES:Minerva Mobile Health Unit
END:VEVENT
BEGIN:VEVENT
DTSTART;TZID=America/New_York:20260605T150000
DTEND;TZID=America/New_York:20260605T170000
DTSTAMP:20260422T163109
CREATED:20260413T193628Z
LAST-MODIFIED:20260413T193632Z
UID:10004207-1780671600-1780678800@nursing.uncg.edu
SUMMARY:Partnership Village Food Bank (Minerva's Mobile Health Chariot)
DESCRIPTION:
URL:https://nursing.uncg.edu/event/partnership-village-food-bank-minervas-mobile-health-chariot-2/2026-06-05/
LOCATION:135 Greenbriar Rd\, Greensboro\, NC 27405\, NC\, United States
CATEGORIES:Minerva Mobile Health Unit
END:VEVENT
BEGIN:VEVENT
DTSTART;TZID=America/New_York:20260612T150000
DTEND;TZID=America/New_York:20260612T170000
DTSTAMP:20260422T163109
CREATED:20260413T193628Z
LAST-MODIFIED:20260413T193632Z
UID:10004208-1781276400-1781283600@nursing.uncg.edu
SUMMARY:Partnership Village Food Bank (Minerva's Mobile Health Chariot)
DESCRIPTION:
URL:https://nursing.uncg.edu/event/partnership-village-food-bank-minervas-mobile-health-chariot-2/2026-06-12/
LOCATION:135 Greenbriar Rd\, Greensboro\, NC 27405\, NC\, United States
CATEGORIES:Minerva Mobile Health Unit
END:VEVENT
BEGIN:VEVENT
DTSTART;TZID=America/New_York:20260619T150000
DTEND;TZID=America/New_York:20260619T170000
DTSTAMP:20260422T163109
CREATED:20260413T193628Z
LAST-MODIFIED:20260413T193632Z
UID:10004209-1781881200-1781888400@nursing.uncg.edu
SUMMARY:Partnership Village Food Bank (Minerva's Mobile Health Chariot)
DESCRIPTION:
URL:https://nursing.uncg.edu/event/partnership-village-food-bank-minervas-mobile-health-chariot-2/2026-06-19/
LOCATION:135 Greenbriar Rd\, Greensboro\, NC 27405\, NC\, United States
CATEGORIES:Minerva Mobile Health Unit
END:VEVENT
BEGIN:VEVENT
DTSTART;TZID=America/New_York:20260626T150000
DTEND;TZID=America/New_York:20260626T170000
DTSTAMP:20260422T163109
CREATED:20260413T193628Z
LAST-MODIFIED:20260413T193632Z
UID:10004210-1782486000-1782493200@nursing.uncg.edu
SUMMARY:Partnership Village Food Bank (Minerva's Mobile Health Chariot)
DESCRIPTION:
URL:https://nursing.uncg.edu/event/partnership-village-food-bank-minervas-mobile-health-chariot-2/2026-06-26/
LOCATION:135 Greenbriar Rd\, Greensboro\, NC 27405\, NC\, United States
CATEGORIES:Minerva Mobile Health Unit
END:VEVENT
BEGIN:VEVENT
DTSTART;TZID=America/New_York:20260703T150000
DTEND;TZID=America/New_York:20260703T170000
DTSTAMP:20260422T163109
CREATED:20260413T193628Z
LAST-MODIFIED:20260413T193632Z
UID:10004211-1783090800-1783098000@nursing.uncg.edu
SUMMARY:Partnership Village Food Bank (Minerva's Mobile Health Chariot)
DESCRIPTION:
URL:https://nursing.uncg.edu/event/partnership-village-food-bank-minervas-mobile-health-chariot-2/2026-07-03/
LOCATION:135 Greenbriar Rd\, Greensboro\, NC 27405\, NC\, United States
CATEGORIES:Minerva Mobile Health Unit
END:VEVENT
BEGIN:VEVENT
DTSTART;TZID=America/New_York:20260710T150000
DTEND;TZID=America/New_York:20260710T170000
DTSTAMP:20260422T163109
CREATED:20260413T193628Z
LAST-MODIFIED:20260413T193632Z
UID:10004212-1783695600-1783702800@nursing.uncg.edu
SUMMARY:Partnership Village Food Bank (Minerva's Mobile Health Chariot)
DESCRIPTION:
URL:https://nursing.uncg.edu/event/partnership-village-food-bank-minervas-mobile-health-chariot-2/2026-07-10/
LOCATION:135 Greenbriar Rd\, Greensboro\, NC 27405\, NC\, United States
CATEGORIES:Minerva Mobile Health Unit
END:VEVENT
BEGIN:VEVENT
DTSTART;TZID=America/New_York:20260717T150000
DTEND;TZID=America/New_York:20260717T170000
DTSTAMP:20260422T163109
CREATED:20260413T193628Z
LAST-MODIFIED:20260413T193632Z
UID:10004213-1784300400-1784307600@nursing.uncg.edu
SUMMARY:Partnership Village Food Bank (Minerva's Mobile Health Chariot)
DESCRIPTION:
URL:https://nursing.uncg.edu/event/partnership-village-food-bank-minervas-mobile-health-chariot-2/2026-07-17/
LOCATION:135 Greenbriar Rd\, Greensboro\, NC 27405\, NC\, United States
CATEGORIES:Minerva Mobile Health Unit
END:VEVENT
BEGIN:VEVENT
DTSTART;TZID=America/New_York:20260724T150000
DTEND;TZID=America/New_York:20260724T170000
DTSTAMP:20260422T163109
CREATED:20260413T193628Z
LAST-MODIFIED:20260413T193632Z
UID:10004214-1784905200-1784912400@nursing.uncg.edu
SUMMARY:Partnership Village Food Bank (Minerva's Mobile Health Chariot)
DESCRIPTION:
URL:https://nursing.uncg.edu/event/partnership-village-food-bank-minervas-mobile-health-chariot-2/2026-07-24/
LOCATION:135 Greenbriar Rd\, Greensboro\, NC 27405\, NC\, United States
CATEGORIES:Minerva Mobile Health Unit
END:VEVENT
BEGIN:VEVENT
DTSTART;TZID=America/New_York:20260731T150000
DTEND;TZID=America/New_York:20260731T170000
DTSTAMP:20260422T163109
CREATED:20260413T193628Z
LAST-MODIFIED:20260413T193632Z
UID:10004215-1785510000-1785517200@nursing.uncg.edu
SUMMARY:Partnership Village Food Bank (Minerva's Mobile Health Chariot)
DESCRIPTION:
URL:https://nursing.uncg.edu/event/partnership-village-food-bank-minervas-mobile-health-chariot-2/2026-07-31/
LOCATION:135 Greenbriar Rd\, Greensboro\, NC 27405\, NC\, United States
CATEGORIES:Minerva Mobile Health Unit
END:VEVENT
BEGIN:VEVENT
DTSTART;TZID=America/New_York:20260807T150000
DTEND;TZID=America/New_York:20260807T170000
DTSTAMP:20260422T163109
CREATED:20260413T193628Z
LAST-MODIFIED:20260413T193632Z
UID:10004216-1786114800-1786122000@nursing.uncg.edu
SUMMARY:Partnership Village Food Bank (Minerva's Mobile Health Chariot)
DESCRIPTION:
URL:https://nursing.uncg.edu/event/partnership-village-food-bank-minervas-mobile-health-chariot-2/2026-08-07/
LOCATION:135 Greenbriar Rd\, Greensboro\, NC 27405\, NC\, United States
CATEGORIES:Minerva Mobile Health Unit
END:VEVENT
BEGIN:VEVENT
DTSTART;TZID=America/New_York:20260814T150000
DTEND;TZID=America/New_York:20260814T170000
DTSTAMP:20260422T163109
CREATED:20260413T193628Z
LAST-MODIFIED:20260413T193632Z
UID:10004217-1786719600-1786726800@nursing.uncg.edu
SUMMARY:Partnership Village Food Bank (Minerva's Mobile Health Chariot)
DESCRIPTION:
URL:https://nursing.uncg.edu/event/partnership-village-food-bank-minervas-mobile-health-chariot-2/2026-08-14/
LOCATION:135 Greenbriar Rd\, Greensboro\, NC 27405\, NC\, United States
CATEGORIES:Minerva Mobile Health Unit
END:VEVENT
BEGIN:VEVENT
DTSTART;TZID=America/New_York:20260821T150000
DTEND;TZID=America/New_York:20260821T170000
DTSTAMP:20260422T163109
CREATED:20260413T193628Z
LAST-MODIFIED:20260413T193632Z
UID:10004218-1787324400-1787331600@nursing.uncg.edu
SUMMARY:Partnership Village Food Bank (Minerva's Mobile Health Chariot)
DESCRIPTION:
URL:https://nursing.uncg.edu/event/partnership-village-food-bank-minervas-mobile-health-chariot-2/2026-08-21/
LOCATION:135 Greenbriar Rd\, Greensboro\, NC 27405\, NC\, United States
CATEGORIES:Minerva Mobile Health Unit
END:VEVENT
BEGIN:VEVENT
DTSTART;TZID=America/New_York:20260828T150000
DTEND;TZID=America/New_York:20260828T170000
DTSTAMP:20260422T163109
CREATED:20260413T193628Z
LAST-MODIFIED:20260413T193632Z
UID:10004219-1787929200-1787936400@nursing.uncg.edu
SUMMARY:Partnership Village Food Bank (Minerva's Mobile Health Chariot)
DESCRIPTION:
URL:https://nursing.uncg.edu/event/partnership-village-food-bank-minervas-mobile-health-chariot-2/2026-08-28/
LOCATION:135 Greenbriar Rd\, Greensboro\, NC 27405\, NC\, United States
CATEGORIES:Minerva Mobile Health Unit
END:VEVENT
BEGIN:VEVENT
DTSTART;TZID=America/New_York:20260904T150000
DTEND;TZID=America/New_York:20260904T170000
DTSTAMP:20260422T163109
CREATED:20260413T193628Z
LAST-MODIFIED:20260413T193632Z
UID:10004220-1788534000-1788541200@nursing.uncg.edu
SUMMARY:Partnership Village Food Bank (Minerva's Mobile Health Chariot)
DESCRIPTION:
URL:https://nursing.uncg.edu/event/partnership-village-food-bank-minervas-mobile-health-chariot-2/2026-09-04/
LOCATION:135 Greenbriar Rd\, Greensboro\, NC 27405\, NC\, United States
CATEGORIES:Minerva Mobile Health Unit
END:VEVENT
BEGIN:VEVENT
DTSTART;TZID=America/New_York:20260911T150000
DTEND;TZID=America/New_York:20260911T170000
DTSTAMP:20260422T163109
CREATED:20260413T193628Z
LAST-MODIFIED:20260413T193632Z
UID:10004221-1789138800-1789146000@nursing.uncg.edu
SUMMARY:Partnership Village Food Bank (Minerva's Mobile Health Chariot)
DESCRIPTION:
URL:https://nursing.uncg.edu/event/partnership-village-food-bank-minervas-mobile-health-chariot-2/2026-09-11/
LOCATION:135 Greenbriar Rd\, Greensboro\, NC 27405\, NC\, United States
CATEGORIES:Minerva Mobile Health Unit
END:VEVENT
BEGIN:VEVENT
DTSTART;TZID=America/New_York:20260918T150000
DTEND;TZID=America/New_York:20260918T170000
DTSTAMP:20260422T163109
CREATED:20260413T193628Z
LAST-MODIFIED:20260413T193632Z
UID:10004222-1789743600-1789750800@nursing.uncg.edu
SUMMARY:Partnership Village Food Bank (Minerva's Mobile Health Chariot)
DESCRIPTION:
URL:https://nursing.uncg.edu/event/partnership-village-food-bank-minervas-mobile-health-chariot-2/2026-09-18/
LOCATION:135 Greenbriar Rd\, Greensboro\, NC 27405\, NC\, United States
CATEGORIES:Minerva Mobile Health Unit
END:VEVENT
BEGIN:VEVENT
DTSTART;TZID=America/New_York:20260925T150000
DTEND;TZID=America/New_York:20260925T170000
DTSTAMP:20260422T163109
CREATED:20260413T193628Z
LAST-MODIFIED:20260413T193632Z
UID:10004223-1790348400-1790355600@nursing.uncg.edu
SUMMARY:Partnership Village Food Bank (Minerva's Mobile Health Chariot)
DESCRIPTION:
URL:https://nursing.uncg.edu/event/partnership-village-food-bank-minervas-mobile-health-chariot-2/2026-09-25/
LOCATION:135 Greenbriar Rd\, Greensboro\, NC 27405\, NC\, United States
CATEGORIES:Minerva Mobile Health Unit
END:VEVENT
BEGIN:VEVENT
DTSTART;TZID=America/New_York:20261002T150000
DTEND;TZID=America/New_York:20261002T170000
DTSTAMP:20260422T163109
CREATED:20260413T193628Z
LAST-MODIFIED:20260413T193632Z
UID:10004224-1790953200-1790960400@nursing.uncg.edu
SUMMARY:Partnership Village Food Bank (Minerva's Mobile Health Chariot)
DESCRIPTION:
URL:https://nursing.uncg.edu/event/partnership-village-food-bank-minervas-mobile-health-chariot-2/2026-10-02/
LOCATION:135 Greenbriar Rd\, Greensboro\, NC 27405\, NC\, United States
CATEGORIES:Minerva Mobile Health Unit
END:VEVENT
BEGIN:VEVENT
DTSTART;TZID=America/New_York:20261009T150000
DTEND;TZID=America/New_York:20261009T170000
DTSTAMP:20260422T163109
CREATED:20260413T193628Z
LAST-MODIFIED:20260413T193632Z
UID:10004225-1791558000-1791565200@nursing.uncg.edu
SUMMARY:Partnership Village Food Bank (Minerva's Mobile Health Chariot)
DESCRIPTION:
URL:https://nursing.uncg.edu/event/partnership-village-food-bank-minervas-mobile-health-chariot-2/2026-10-09/
LOCATION:135 Greenbriar Rd\, Greensboro\, NC 27405\, NC\, United States
CATEGORIES:Minerva Mobile Health Unit
END:VEVENT
BEGIN:VEVENT
DTSTART;TZID=America/New_York:20261016T150000
DTEND;TZID=America/New_York:20261016T170000
DTSTAMP:20260422T163109
CREATED:20260413T193628Z
LAST-MODIFIED:20260413T193632Z
UID:10004226-1792162800-1792170000@nursing.uncg.edu
SUMMARY:Partnership Village Food Bank (Minerva's Mobile Health Chariot)
DESCRIPTION:
URL:https://nursing.uncg.edu/event/partnership-village-food-bank-minervas-mobile-health-chariot-2/2026-10-16/
LOCATION:135 Greenbriar Rd\, Greensboro\, NC 27405\, NC\, United States
CATEGORIES:Minerva Mobile Health Unit
END:VEVENT
BEGIN:VEVENT
DTSTART;TZID=America/New_York:20261023T150000
DTEND;TZID=America/New_York:20261023T170000
DTSTAMP:20260422T163109
CREATED:20260413T193628Z
LAST-MODIFIED:20260413T193632Z
UID:10004227-1792767600-1792774800@nursing.uncg.edu
SUMMARY:Partnership Village Food Bank (Minerva's Mobile Health Chariot)
DESCRIPTION:
URL:https://nursing.uncg.edu/event/partnership-village-food-bank-minervas-mobile-health-chariot-2/2026-10-23/
LOCATION:135 Greenbriar Rd\, Greensboro\, NC 27405\, NC\, United States
CATEGORIES:Minerva Mobile Health Unit
END:VEVENT
BEGIN:VEVENT
DTSTART;TZID=America/New_York:20261030T150000
DTEND;TZID=America/New_York:20261030T170000
DTSTAMP:20260422T163109
CREATED:20260413T193628Z
LAST-MODIFIED:20260413T193632Z
UID:10004228-1793372400-1793379600@nursing.uncg.edu
SUMMARY:Partnership Village Food Bank (Minerva's Mobile Health Chariot)
DESCRIPTION:
URL:https://nursing.uncg.edu/event/partnership-village-food-bank-minervas-mobile-health-chariot-2/2026-10-30/
LOCATION:135 Greenbriar Rd\, Greensboro\, NC 27405\, NC\, United States
CATEGORIES:Minerva Mobile Health Unit
END:VEVENT
BEGIN:VEVENT
DTSTART;TZID=America/New_York:20261106T150000
DTEND;TZID=America/New_York:20261106T170000
DTSTAMP:20260422T163109
CREATED:20260413T193628Z
LAST-MODIFIED:20260413T193632Z
UID:10004229-1793977200-1793984400@nursing.uncg.edu
SUMMARY:Partnership Village Food Bank (Minerva's Mobile Health Chariot)
DESCRIPTION:
URL:https://nursing.uncg.edu/event/partnership-village-food-bank-minervas-mobile-health-chariot-2/2026-11-06/
LOCATION:135 Greenbriar Rd\, Greensboro\, NC 27405\, NC\, United States
CATEGORIES:Minerva Mobile Health Unit
END:VEVENT
BEGIN:VEVENT
DTSTART;TZID=America/New_York:20261113T150000
DTEND;TZID=America/New_York:20261113T170000
DTSTAMP:20260422T163109
CREATED:20260413T193628Z
LAST-MODIFIED:20260413T193632Z
UID:10004230-1794582000-1794589200@nursing.uncg.edu
SUMMARY:Partnership Village Food Bank (Minerva's Mobile Health Chariot)
DESCRIPTION:
URL:https://nursing.uncg.edu/event/partnership-village-food-bank-minervas-mobile-health-chariot-2/2026-11-13/
LOCATION:135 Greenbriar Rd\, Greensboro\, NC 27405\, NC\, United States
CATEGORIES:Minerva Mobile Health Unit
END:VEVENT
END:VCALENDAR