BEGIN:VCALENDAR
VERSION:2.0
PRODID:-//School of Nursing - ECPv6.15.20//NONSGML v1.0//EN
CALSCALE:GREGORIAN
METHOD:PUBLISH
X-WR-CALNAME:School of Nursing
X-ORIGINAL-URL:https://nursing.uncg.edu
X-WR-CALDESC:Events for School of Nursing
REFRESH-INTERVAL;VALUE=DURATION:PT1H
X-Robots-Tag:noindex
X-PUBLISHED-TTL:PT1H
BEGIN:VTIMEZONE
TZID:America/New_York
BEGIN:DAYLIGHT
TZOFFSETFROM:-0500
TZOFFSETTO:-0400
TZNAME:EDT
DTSTART:20250309T070000
END:DAYLIGHT
BEGIN:STANDARD
TZOFFSETFROM:-0400
TZOFFSETTO:-0500
TZNAME:EST
DTSTART:20251102T060000
END:STANDARD
BEGIN:DAYLIGHT
TZOFFSETFROM:-0500
TZOFFSETTO:-0400
TZNAME:EDT
DTSTART:20260308T070000
END:DAYLIGHT
BEGIN:STANDARD
TZOFFSETFROM:-0400
TZOFFSETTO:-0500
TZNAME:EST
DTSTART:20261101T060000
END:STANDARD
BEGIN:DAYLIGHT
TZOFFSETFROM:-0500
TZOFFSETTO:-0400
TZNAME:EDT
DTSTART:20270314T070000
END:DAYLIGHT
BEGIN:STANDARD
TZOFFSETFROM:-0400
TZOFFSETTO:-0500
TZNAME:EST
DTSTART:20271107T060000
END:STANDARD
END:VTIMEZONE
BEGIN:VEVENT
DTSTART;TZID=America/New_York:20260423T130000
DTEND;TZID=America/New_York:20260423T170000
DTSTAMP:20260421T104009
CREATED:20260413T192748Z
LAST-MODIFIED:20260413T195632Z
UID:10003549-1776949200-1776963600@nursing.uncg.edu
SUMMARY:Partnership Village (Minerva's Mobile Health Chariot)
DESCRIPTION:
URL:https://nursing.uncg.edu/event/partnership-village-minervas-mobile-health-chariot/2026-04-23/
CATEGORIES:Minerva Mobile Health Unit
END:VEVENT
BEGIN:VEVENT
DTSTART;TZID=America/New_York:20260430T130000
DTEND;TZID=America/New_York:20260430T170000
DTSTAMP:20260421T104009
CREATED:20260413T192748Z
LAST-MODIFIED:20260413T195632Z
UID:10003550-1777554000-1777568400@nursing.uncg.edu
SUMMARY:Partnership Village (Minerva's Mobile Health Chariot)
DESCRIPTION:
URL:https://nursing.uncg.edu/event/partnership-village-minervas-mobile-health-chariot/2026-04-30/
CATEGORIES:Minerva Mobile Health Unit
END:VEVENT
BEGIN:VEVENT
DTSTART;TZID=America/New_York:20260507T130000
DTEND;TZID=America/New_York:20260507T170000
DTSTAMP:20260421T104009
CREATED:20260413T192748Z
LAST-MODIFIED:20260413T195632Z
UID:10003551-1778158800-1778173200@nursing.uncg.edu
SUMMARY:Partnership Village (Minerva's Mobile Health Chariot)
DESCRIPTION:
URL:https://nursing.uncg.edu/event/partnership-village-minervas-mobile-health-chariot/2026-05-07/
CATEGORIES:Minerva Mobile Health Unit
END:VEVENT
BEGIN:VEVENT
DTSTART;TZID=America/New_York:20260514T130000
DTEND;TZID=America/New_York:20260514T170000
DTSTAMP:20260421T104009
CREATED:20260413T192748Z
LAST-MODIFIED:20260414T220657Z
UID:10003552-1778763600-1778778000@nursing.uncg.edu
SUMMARY:Partnership Village (Minerva's Mobile Health Chariot)
DESCRIPTION:
URL:https://nursing.uncg.edu/event/partnership-village-minervas-mobile-health-chariot/2026-05-14/
CATEGORIES:Minerva Mobile Health Unit
END:VEVENT
BEGIN:VEVENT
DTSTART;TZID=America/New_York:20260521T130000
DTEND;TZID=America/New_York:20260521T170000
DTSTAMP:20260421T104009
CREATED:20260413T192748Z
LAST-MODIFIED:20260414T220657Z
UID:10003553-1779368400-1779382800@nursing.uncg.edu
SUMMARY:Partnership Village (Minerva's Mobile Health Chariot)
DESCRIPTION:
URL:https://nursing.uncg.edu/event/partnership-village-minervas-mobile-health-chariot/2026-05-21/
CATEGORIES:Minerva Mobile Health Unit
END:VEVENT
BEGIN:VEVENT
DTSTART;TZID=America/New_York:20260528T130000
DTEND;TZID=America/New_York:20260528T170000
DTSTAMP:20260421T104009
CREATED:20260413T192748Z
LAST-MODIFIED:20260414T220657Z
UID:10003554-1779973200-1779987600@nursing.uncg.edu
SUMMARY:Partnership Village (Minerva's Mobile Health Chariot)
DESCRIPTION:
URL:https://nursing.uncg.edu/event/partnership-village-minervas-mobile-health-chariot/2026-05-28/
CATEGORIES:Minerva Mobile Health Unit
END:VEVENT
BEGIN:VEVENT
DTSTART;TZID=America/New_York:20260604T130000
DTEND;TZID=America/New_York:20260604T170000
DTSTAMP:20260421T104009
CREATED:20260413T192748Z
LAST-MODIFIED:20260414T220657Z
UID:10003555-1780578000-1780592400@nursing.uncg.edu
SUMMARY:Partnership Village (Minerva's Mobile Health Chariot)
DESCRIPTION:
URL:https://nursing.uncg.edu/event/partnership-village-minervas-mobile-health-chariot/2026-06-04/
CATEGORIES:Minerva Mobile Health Unit
END:VEVENT
BEGIN:VEVENT
DTSTART;TZID=America/New_York:20260611T130000
DTEND;TZID=America/New_York:20260611T170000
DTSTAMP:20260421T104009
CREATED:20260413T192748Z
LAST-MODIFIED:20260414T220657Z
UID:10003556-1781182800-1781197200@nursing.uncg.edu
SUMMARY:Partnership Village (Minerva's Mobile Health Chariot)
DESCRIPTION:
URL:https://nursing.uncg.edu/event/partnership-village-minervas-mobile-health-chariot/2026-06-11/
CATEGORIES:Minerva Mobile Health Unit
END:VEVENT
BEGIN:VEVENT
DTSTART;TZID=America/New_York:20260618T130000
DTEND;TZID=America/New_York:20260618T170000
DTSTAMP:20260421T104009
CREATED:20260413T192748Z
LAST-MODIFIED:20260414T220657Z
UID:10003557-1781787600-1781802000@nursing.uncg.edu
SUMMARY:Partnership Village (Minerva's Mobile Health Chariot)
DESCRIPTION:
URL:https://nursing.uncg.edu/event/partnership-village-minervas-mobile-health-chariot/2026-06-18/
CATEGORIES:Minerva Mobile Health Unit
END:VEVENT
BEGIN:VEVENT
DTSTART;TZID=America/New_York:20260625T130000
DTEND;TZID=America/New_York:20260625T170000
DTSTAMP:20260421T104009
CREATED:20260413T192748Z
LAST-MODIFIED:20260414T220657Z
UID:10003558-1782392400-1782406800@nursing.uncg.edu
SUMMARY:Partnership Village (Minerva's Mobile Health Chariot)
DESCRIPTION:
URL:https://nursing.uncg.edu/event/partnership-village-minervas-mobile-health-chariot/2026-06-25/
CATEGORIES:Minerva Mobile Health Unit
END:VEVENT
BEGIN:VEVENT
DTSTART;TZID=America/New_York:20260702T130000
DTEND;TZID=America/New_York:20260702T170000
DTSTAMP:20260421T104009
CREATED:20260413T192748Z
LAST-MODIFIED:20260414T220657Z
UID:10003559-1782997200-1783011600@nursing.uncg.edu
SUMMARY:Partnership Village (Minerva's Mobile Health Chariot)
DESCRIPTION:
URL:https://nursing.uncg.edu/event/partnership-village-minervas-mobile-health-chariot/2026-07-02/
CATEGORIES:Minerva Mobile Health Unit
END:VEVENT
BEGIN:VEVENT
DTSTART;TZID=America/New_York:20260709T130000
DTEND;TZID=America/New_York:20260709T170000
DTSTAMP:20260421T104009
CREATED:20260413T192748Z
LAST-MODIFIED:20260414T220657Z
UID:10003560-1783602000-1783616400@nursing.uncg.edu
SUMMARY:Partnership Village (Minerva's Mobile Health Chariot)
DESCRIPTION:
URL:https://nursing.uncg.edu/event/partnership-village-minervas-mobile-health-chariot/2026-07-09/
CATEGORIES:Minerva Mobile Health Unit
END:VEVENT
BEGIN:VEVENT
DTSTART;TZID=America/New_York:20260716T130000
DTEND;TZID=America/New_York:20260716T170000
DTSTAMP:20260421T104009
CREATED:20260413T192748Z
LAST-MODIFIED:20260414T220657Z
UID:10003561-1784206800-1784221200@nursing.uncg.edu
SUMMARY:Partnership Village (Minerva's Mobile Health Chariot)
DESCRIPTION:
URL:https://nursing.uncg.edu/event/partnership-village-minervas-mobile-health-chariot/2026-07-16/
CATEGORIES:Minerva Mobile Health Unit
END:VEVENT
BEGIN:VEVENT
DTSTART;TZID=America/New_York:20260723T130000
DTEND;TZID=America/New_York:20260723T170000
DTSTAMP:20260421T104009
CREATED:20260413T192748Z
LAST-MODIFIED:20260414T220657Z
UID:10003562-1784811600-1784826000@nursing.uncg.edu
SUMMARY:Partnership Village (Minerva's Mobile Health Chariot)
DESCRIPTION:
URL:https://nursing.uncg.edu/event/partnership-village-minervas-mobile-health-chariot/2026-07-23/
CATEGORIES:Minerva Mobile Health Unit
END:VEVENT
BEGIN:VEVENT
DTSTART;TZID=America/New_York:20260730T130000
DTEND;TZID=America/New_York:20260730T170000
DTSTAMP:20260421T104009
CREATED:20260413T192748Z
LAST-MODIFIED:20260414T220657Z
UID:10003563-1785416400-1785430800@nursing.uncg.edu
SUMMARY:Partnership Village (Minerva's Mobile Health Chariot)
DESCRIPTION:
URL:https://nursing.uncg.edu/event/partnership-village-minervas-mobile-health-chariot/2026-07-30/
CATEGORIES:Minerva Mobile Health Unit
END:VEVENT
BEGIN:VEVENT
DTSTART;TZID=America/New_York:20260806T130000
DTEND;TZID=America/New_York:20260806T170000
DTSTAMP:20260421T104009
CREATED:20260413T192748Z
LAST-MODIFIED:20260414T220657Z
UID:10003564-1786021200-1786035600@nursing.uncg.edu
SUMMARY:Partnership Village (Minerva's Mobile Health Chariot)
DESCRIPTION:
URL:https://nursing.uncg.edu/event/partnership-village-minervas-mobile-health-chariot/2026-08-06/
CATEGORIES:Minerva Mobile Health Unit
END:VEVENT
BEGIN:VEVENT
DTSTART;TZID=America/New_York:20260813T130000
DTEND;TZID=America/New_York:20260813T170000
DTSTAMP:20260421T104009
CREATED:20260413T192748Z
LAST-MODIFIED:20260414T220657Z
UID:10003565-1786626000-1786640400@nursing.uncg.edu
SUMMARY:Partnership Village (Minerva's Mobile Health Chariot)
DESCRIPTION:
URL:https://nursing.uncg.edu/event/partnership-village-minervas-mobile-health-chariot/2026-08-13/
CATEGORIES:Minerva Mobile Health Unit
END:VEVENT
BEGIN:VEVENT
DTSTART;TZID=America/New_York:20260820T130000
DTEND;TZID=America/New_York:20260820T170000
DTSTAMP:20260421T104009
CREATED:20260413T192748Z
LAST-MODIFIED:20260414T220657Z
UID:10003566-1787230800-1787245200@nursing.uncg.edu
SUMMARY:Partnership Village (Minerva's Mobile Health Chariot)
DESCRIPTION:
URL:https://nursing.uncg.edu/event/partnership-village-minervas-mobile-health-chariot/2026-08-20/
CATEGORIES:Minerva Mobile Health Unit
END:VEVENT
BEGIN:VEVENT
DTSTART;TZID=America/New_York:20260827T130000
DTEND;TZID=America/New_York:20260827T170000
DTSTAMP:20260421T104009
CREATED:20260413T192748Z
LAST-MODIFIED:20260414T220657Z
UID:10003567-1787835600-1787850000@nursing.uncg.edu
SUMMARY:Partnership Village (Minerva's Mobile Health Chariot)
DESCRIPTION:
URL:https://nursing.uncg.edu/event/partnership-village-minervas-mobile-health-chariot/2026-08-27/
CATEGORIES:Minerva Mobile Health Unit
END:VEVENT
BEGIN:VEVENT
DTSTART;TZID=America/New_York:20260903T130000
DTEND;TZID=America/New_York:20260903T170000
DTSTAMP:20260421T104009
CREATED:20260413T192748Z
LAST-MODIFIED:20260414T220657Z
UID:10003568-1788440400-1788454800@nursing.uncg.edu
SUMMARY:Partnership Village (Minerva's Mobile Health Chariot)
DESCRIPTION:
URL:https://nursing.uncg.edu/event/partnership-village-minervas-mobile-health-chariot/2026-09-03/
CATEGORIES:Minerva Mobile Health Unit
END:VEVENT
BEGIN:VEVENT
DTSTART;TZID=America/New_York:20260910T130000
DTEND;TZID=America/New_York:20260910T170000
DTSTAMP:20260421T104009
CREATED:20260413T192748Z
LAST-MODIFIED:20260414T220657Z
UID:10003569-1789045200-1789059600@nursing.uncg.edu
SUMMARY:Partnership Village (Minerva's Mobile Health Chariot)
DESCRIPTION:
URL:https://nursing.uncg.edu/event/partnership-village-minervas-mobile-health-chariot/2026-09-10/
CATEGORIES:Minerva Mobile Health Unit
END:VEVENT
BEGIN:VEVENT
DTSTART;TZID=America/New_York:20260917T130000
DTEND;TZID=America/New_York:20260917T170000
DTSTAMP:20260421T104009
CREATED:20260413T192748Z
LAST-MODIFIED:20260414T220657Z
UID:10003570-1789650000-1789664400@nursing.uncg.edu
SUMMARY:Partnership Village (Minerva's Mobile Health Chariot)
DESCRIPTION:
URL:https://nursing.uncg.edu/event/partnership-village-minervas-mobile-health-chariot/2026-09-17/
CATEGORIES:Minerva Mobile Health Unit
END:VEVENT
BEGIN:VEVENT
DTSTART;TZID=America/New_York:20260924T130000
DTEND;TZID=America/New_York:20260924T170000
DTSTAMP:20260421T104009
CREATED:20260413T192748Z
LAST-MODIFIED:20260414T220657Z
UID:10003571-1790254800-1790269200@nursing.uncg.edu
SUMMARY:Partnership Village (Minerva's Mobile Health Chariot)
DESCRIPTION:
URL:https://nursing.uncg.edu/event/partnership-village-minervas-mobile-health-chariot/2026-09-24/
CATEGORIES:Minerva Mobile Health Unit
END:VEVENT
BEGIN:VEVENT
DTSTART;TZID=America/New_York:20261001T130000
DTEND;TZID=America/New_York:20261001T170000
DTSTAMP:20260421T104009
CREATED:20260413T192748Z
LAST-MODIFIED:20260414T220657Z
UID:10003572-1790859600-1790874000@nursing.uncg.edu
SUMMARY:Partnership Village (Minerva's Mobile Health Chariot)
DESCRIPTION:
URL:https://nursing.uncg.edu/event/partnership-village-minervas-mobile-health-chariot/2026-10-01/
CATEGORIES:Minerva Mobile Health Unit
END:VEVENT
BEGIN:VEVENT
DTSTART;TZID=America/New_York:20261008T130000
DTEND;TZID=America/New_York:20261008T170000
DTSTAMP:20260421T104009
CREATED:20260413T192748Z
LAST-MODIFIED:20260414T220657Z
UID:10003573-1791464400-1791478800@nursing.uncg.edu
SUMMARY:Partnership Village (Minerva's Mobile Health Chariot)
DESCRIPTION:
URL:https://nursing.uncg.edu/event/partnership-village-minervas-mobile-health-chariot/2026-10-08/
CATEGORIES:Minerva Mobile Health Unit
END:VEVENT
BEGIN:VEVENT
DTSTART;TZID=America/New_York:20261015T130000
DTEND;TZID=America/New_York:20261015T170000
DTSTAMP:20260421T104009
CREATED:20260413T192748Z
LAST-MODIFIED:20260414T220657Z
UID:10003574-1792069200-1792083600@nursing.uncg.edu
SUMMARY:Partnership Village (Minerva's Mobile Health Chariot)
DESCRIPTION:
URL:https://nursing.uncg.edu/event/partnership-village-minervas-mobile-health-chariot/2026-10-15/
CATEGORIES:Minerva Mobile Health Unit
END:VEVENT
BEGIN:VEVENT
DTSTART;TZID=America/New_York:20261022T130000
DTEND;TZID=America/New_York:20261022T170000
DTSTAMP:20260421T104009
CREATED:20260413T192748Z
LAST-MODIFIED:20260414T220657Z
UID:10003575-1792674000-1792688400@nursing.uncg.edu
SUMMARY:Partnership Village (Minerva's Mobile Health Chariot)
DESCRIPTION:
URL:https://nursing.uncg.edu/event/partnership-village-minervas-mobile-health-chariot/2026-10-22/
CATEGORIES:Minerva Mobile Health Unit
END:VEVENT
BEGIN:VEVENT
DTSTART;TZID=America/New_York:20261029T130000
DTEND;TZID=America/New_York:20261029T170000
DTSTAMP:20260421T104009
CREATED:20260413T192748Z
LAST-MODIFIED:20260414T220657Z
UID:10003576-1793278800-1793293200@nursing.uncg.edu
SUMMARY:Partnership Village (Minerva's Mobile Health Chariot)
DESCRIPTION:
URL:https://nursing.uncg.edu/event/partnership-village-minervas-mobile-health-chariot/2026-10-29/
CATEGORIES:Minerva Mobile Health Unit
END:VEVENT
BEGIN:VEVENT
DTSTART;TZID=America/New_York:20261105T130000
DTEND;TZID=America/New_York:20261105T170000
DTSTAMP:20260421T104009
CREATED:20260413T192748Z
LAST-MODIFIED:20260414T220657Z
UID:10003577-1793883600-1793898000@nursing.uncg.edu
SUMMARY:Partnership Village (Minerva's Mobile Health Chariot)
DESCRIPTION:
URL:https://nursing.uncg.edu/event/partnership-village-minervas-mobile-health-chariot/2026-11-05/
CATEGORIES:Minerva Mobile Health Unit
END:VEVENT
BEGIN:VEVENT
DTSTART;TZID=America/New_York:20261112T130000
DTEND;TZID=America/New_York:20261112T170000
DTSTAMP:20260421T104009
CREATED:20260413T192748Z
LAST-MODIFIED:20260414T220657Z
UID:10003578-1794488400-1794502800@nursing.uncg.edu
SUMMARY:Partnership Village (Minerva's Mobile Health Chariot)
DESCRIPTION:
URL:https://nursing.uncg.edu/event/partnership-village-minervas-mobile-health-chariot/2026-11-12/
CATEGORIES:Minerva Mobile Health Unit
END:VEVENT
END:VCALENDAR