BEGIN:VCALENDAR
VERSION:2.0
PRODID:-//School of Nursing - ECPv6.15.20//NONSGML v1.0//EN
CALSCALE:GREGORIAN
METHOD:PUBLISH
X-WR-CALNAME:School of Nursing
X-ORIGINAL-URL:https://nursing.uncg.edu
X-WR-CALDESC:Events for School of Nursing
REFRESH-INTERVAL;VALUE=DURATION:PT1H
X-Robots-Tag:noindex
X-PUBLISHED-TTL:PT1H
BEGIN:VTIMEZONE
TZID:America/New_York
BEGIN:DAYLIGHT
TZOFFSETFROM:-0500
TZOFFSETTO:-0400
TZNAME:EDT
DTSTART:20250309T070000
END:DAYLIGHT
BEGIN:STANDARD
TZOFFSETFROM:-0400
TZOFFSETTO:-0500
TZNAME:EST
DTSTART:20251102T060000
END:STANDARD
BEGIN:DAYLIGHT
TZOFFSETFROM:-0500
TZOFFSETTO:-0400
TZNAME:EDT
DTSTART:20260308T070000
END:DAYLIGHT
BEGIN:STANDARD
TZOFFSETFROM:-0400
TZOFFSETTO:-0500
TZNAME:EST
DTSTART:20261101T060000
END:STANDARD
BEGIN:DAYLIGHT
TZOFFSETFROM:-0500
TZOFFSETTO:-0400
TZNAME:EDT
DTSTART:20270314T070000
END:DAYLIGHT
BEGIN:STANDARD
TZOFFSETFROM:-0400
TZOFFSETTO:-0500
TZNAME:EST
DTSTART:20271107T060000
END:STANDARD
BEGIN:DAYLIGHT
TZOFFSETFROM:-0500
TZOFFSETTO:-0400
TZNAME:EDT
DTSTART:20280312T070000
END:DAYLIGHT
BEGIN:STANDARD
TZOFFSETFROM:-0400
TZOFFSETTO:-0500
TZNAME:EST
DTSTART:20281105T060000
END:STANDARD
BEGIN:DAYLIGHT
TZOFFSETFROM:-0500
TZOFFSETTO:-0400
TZNAME:EDT
DTSTART:20290311T070000
END:DAYLIGHT
BEGIN:STANDARD
TZOFFSETFROM:-0400
TZOFFSETTO:-0500
TZNAME:EST
DTSTART:20291104T060000
END:STANDARD
END:VTIMEZONE
BEGIN:VEVENT
DTSTART;TZID=America/New_York:20260520T100000
DTEND;TZID=America/New_York:20260520T120000
DTSTAMP:20260421T175314
CREATED:20260413T192552Z
LAST-MODIFIED:20260414T215906Z
UID:10003489-1779271200-1779278400@nursing.uncg.edu
SUMMARY:Smith Active Adult Center (Minerva's Mobile Health Chariot)
DESCRIPTION:
URL:https://nursing.uncg.edu/event/smith-active-adult-center-minervas-mobile-health-chariot/2026-05-20/
LOCATION:Smith Active Adult Center
CATEGORIES:Minerva Mobile Health Unit
END:VEVENT
BEGIN:VEVENT
DTSTART;TZID=America/New_York:20260617T100000
DTEND;TZID=America/New_York:20260617T120000
DTSTAMP:20260421T175314
CREATED:20260413T192552Z
LAST-MODIFIED:20260414T215906Z
UID:10003490-1781690400-1781697600@nursing.uncg.edu
SUMMARY:Smith Active Adult Center (Minerva's Mobile Health Chariot)
DESCRIPTION:
URL:https://nursing.uncg.edu/event/smith-active-adult-center-minervas-mobile-health-chariot/2026-06-17/
LOCATION:Smith Active Adult Center
CATEGORIES:Minerva Mobile Health Unit
END:VEVENT
BEGIN:VEVENT
DTSTART;TZID=America/New_York:20260715T100000
DTEND;TZID=America/New_York:20260715T120000
DTSTAMP:20260421T175314
CREATED:20260413T192552Z
LAST-MODIFIED:20260414T215906Z
UID:10003491-1784109600-1784116800@nursing.uncg.edu
SUMMARY:Smith Active Adult Center (Minerva's Mobile Health Chariot)
DESCRIPTION:
URL:https://nursing.uncg.edu/event/smith-active-adult-center-minervas-mobile-health-chariot/2026-07-15/
LOCATION:Smith Active Adult Center
CATEGORIES:Minerva Mobile Health Unit
END:VEVENT
BEGIN:VEVENT
DTSTART;TZID=America/New_York:20260819T100000
DTEND;TZID=America/New_York:20260819T120000
DTSTAMP:20260421T175314
CREATED:20260413T192552Z
LAST-MODIFIED:20260414T215906Z
UID:10003492-1787133600-1787140800@nursing.uncg.edu
SUMMARY:Smith Active Adult Center (Minerva's Mobile Health Chariot)
DESCRIPTION:
URL:https://nursing.uncg.edu/event/smith-active-adult-center-minervas-mobile-health-chariot/2026-08-19/
LOCATION:Smith Active Adult Center
CATEGORIES:Minerva Mobile Health Unit
END:VEVENT
BEGIN:VEVENT
DTSTART;TZID=America/New_York:20260916T100000
DTEND;TZID=America/New_York:20260916T120000
DTSTAMP:20260421T175314
CREATED:20260413T192552Z
LAST-MODIFIED:20260414T215906Z
UID:10003493-1789552800-1789560000@nursing.uncg.edu
SUMMARY:Smith Active Adult Center (Minerva's Mobile Health Chariot)
DESCRIPTION:
URL:https://nursing.uncg.edu/event/smith-active-adult-center-minervas-mobile-health-chariot/2026-09-16/
LOCATION:Smith Active Adult Center
CATEGORIES:Minerva Mobile Health Unit
END:VEVENT
BEGIN:VEVENT
DTSTART;TZID=America/New_York:20261021T100000
DTEND;TZID=America/New_York:20261021T120000
DTSTAMP:20260421T175314
CREATED:20260413T192552Z
LAST-MODIFIED:20260414T215906Z
UID:10003494-1792576800-1792584000@nursing.uncg.edu
SUMMARY:Smith Active Adult Center (Minerva's Mobile Health Chariot)
DESCRIPTION:
URL:https://nursing.uncg.edu/event/smith-active-adult-center-minervas-mobile-health-chariot/2026-10-21/
LOCATION:Smith Active Adult Center
CATEGORIES:Minerva Mobile Health Unit
END:VEVENT
BEGIN:VEVENT
DTSTART;TZID=America/New_York:20261118T100000
DTEND;TZID=America/New_York:20261118T120000
DTSTAMP:20260421T175314
CREATED:20260413T192552Z
LAST-MODIFIED:20260414T215906Z
UID:10003495-1794996000-1795003200@nursing.uncg.edu
SUMMARY:Smith Active Adult Center (Minerva's Mobile Health Chariot)
DESCRIPTION:
URL:https://nursing.uncg.edu/event/smith-active-adult-center-minervas-mobile-health-chariot/2026-11-18/
LOCATION:Smith Active Adult Center
CATEGORIES:Minerva Mobile Health Unit
END:VEVENT
BEGIN:VEVENT
DTSTART;TZID=America/New_York:20261216T100000
DTEND;TZID=America/New_York:20261216T120000
DTSTAMP:20260421T175314
CREATED:20260413T192552Z
LAST-MODIFIED:20260414T215906Z
UID:10003496-1797415200-1797422400@nursing.uncg.edu
SUMMARY:Smith Active Adult Center (Minerva's Mobile Health Chariot)
DESCRIPTION:
URL:https://nursing.uncg.edu/event/smith-active-adult-center-minervas-mobile-health-chariot/2026-12-16/
LOCATION:Smith Active Adult Center
CATEGORIES:Minerva Mobile Health Unit
END:VEVENT
BEGIN:VEVENT
DTSTART;TZID=America/New_York:20270120T100000
DTEND;TZID=America/New_York:20270120T120000
DTSTAMP:20260421T175314
CREATED:20260413T192552Z
LAST-MODIFIED:20260414T215906Z
UID:10003497-1800439200-1800446400@nursing.uncg.edu
SUMMARY:Smith Active Adult Center (Minerva's Mobile Health Chariot)
DESCRIPTION:
URL:https://nursing.uncg.edu/event/smith-active-adult-center-minervas-mobile-health-chariot/2027-01-20/
LOCATION:Smith Active Adult Center
CATEGORIES:Minerva Mobile Health Unit
END:VEVENT
BEGIN:VEVENT
DTSTART;TZID=America/New_York:20270217T100000
DTEND;TZID=America/New_York:20270217T120000
DTSTAMP:20260421T175314
CREATED:20260413T192552Z
LAST-MODIFIED:20260414T215906Z
UID:10003498-1802858400-1802865600@nursing.uncg.edu
SUMMARY:Smith Active Adult Center (Minerva's Mobile Health Chariot)
DESCRIPTION:
URL:https://nursing.uncg.edu/event/smith-active-adult-center-minervas-mobile-health-chariot/2027-02-17/
LOCATION:Smith Active Adult Center
CATEGORIES:Minerva Mobile Health Unit
END:VEVENT
BEGIN:VEVENT
DTSTART;TZID=America/New_York:20270317T100000
DTEND;TZID=America/New_York:20270317T120000
DTSTAMP:20260421T175314
CREATED:20260413T192552Z
LAST-MODIFIED:20260414T215906Z
UID:10003499-1805277600-1805284800@nursing.uncg.edu
SUMMARY:Smith Active Adult Center (Minerva's Mobile Health Chariot)
DESCRIPTION:
URL:https://nursing.uncg.edu/event/smith-active-adult-center-minervas-mobile-health-chariot/2027-03-17/
LOCATION:Smith Active Adult Center
CATEGORIES:Minerva Mobile Health Unit
END:VEVENT
BEGIN:VEVENT
DTSTART;TZID=America/New_York:20270421T100000
DTEND;TZID=America/New_York:20270421T120000
DTSTAMP:20260421T175314
CREATED:20260413T192552Z
LAST-MODIFIED:20260414T215906Z
UID:10003500-1808301600-1808308800@nursing.uncg.edu
SUMMARY:Smith Active Adult Center (Minerva's Mobile Health Chariot)
DESCRIPTION:
URL:https://nursing.uncg.edu/event/smith-active-adult-center-minervas-mobile-health-chariot/2027-04-21/
LOCATION:Smith Active Adult Center
CATEGORIES:Minerva Mobile Health Unit
END:VEVENT
BEGIN:VEVENT
DTSTART;TZID=America/New_York:20270519T100000
DTEND;TZID=America/New_York:20270519T120000
DTSTAMP:20260421T175314
CREATED:20260413T192552Z
LAST-MODIFIED:20260414T215906Z
UID:10003501-1810720800-1810728000@nursing.uncg.edu
SUMMARY:Smith Active Adult Center (Minerva's Mobile Health Chariot)
DESCRIPTION:
URL:https://nursing.uncg.edu/event/smith-active-adult-center-minervas-mobile-health-chariot/2027-05-19/
LOCATION:Smith Active Adult Center
CATEGORIES:Minerva Mobile Health Unit
END:VEVENT
BEGIN:VEVENT
DTSTART;TZID=America/New_York:20270616T100000
DTEND;TZID=America/New_York:20270616T120000
DTSTAMP:20260421T175314
CREATED:20260413T192552Z
LAST-MODIFIED:20260414T215906Z
UID:10003502-1813140000-1813147200@nursing.uncg.edu
SUMMARY:Smith Active Adult Center (Minerva's Mobile Health Chariot)
DESCRIPTION:
URL:https://nursing.uncg.edu/event/smith-active-adult-center-minervas-mobile-health-chariot/2027-06-16/
LOCATION:Smith Active Adult Center
CATEGORIES:Minerva Mobile Health Unit
END:VEVENT
BEGIN:VEVENT
DTSTART;TZID=America/New_York:20270721T100000
DTEND;TZID=America/New_York:20270721T120000
DTSTAMP:20260421T175314
CREATED:20260413T192552Z
LAST-MODIFIED:20260414T215906Z
UID:10003503-1816164000-1816171200@nursing.uncg.edu
SUMMARY:Smith Active Adult Center (Minerva's Mobile Health Chariot)
DESCRIPTION:
URL:https://nursing.uncg.edu/event/smith-active-adult-center-minervas-mobile-health-chariot/2027-07-21/
LOCATION:Smith Active Adult Center
CATEGORIES:Minerva Mobile Health Unit
END:VEVENT
BEGIN:VEVENT
DTSTART;TZID=America/New_York:20270818T100000
DTEND;TZID=America/New_York:20270818T120000
DTSTAMP:20260421T175314
CREATED:20260413T192552Z
LAST-MODIFIED:20260414T215906Z
UID:10003504-1818583200-1818590400@nursing.uncg.edu
SUMMARY:Smith Active Adult Center (Minerva's Mobile Health Chariot)
DESCRIPTION:
URL:https://nursing.uncg.edu/event/smith-active-adult-center-minervas-mobile-health-chariot/2027-08-18/
LOCATION:Smith Active Adult Center
CATEGORIES:Minerva Mobile Health Unit
END:VEVENT
BEGIN:VEVENT
DTSTART;TZID=America/New_York:20270915T100000
DTEND;TZID=America/New_York:20270915T120000
DTSTAMP:20260421T175314
CREATED:20260413T192552Z
LAST-MODIFIED:20260414T215906Z
UID:10003505-1821002400-1821009600@nursing.uncg.edu
SUMMARY:Smith Active Adult Center (Minerva's Mobile Health Chariot)
DESCRIPTION:
URL:https://nursing.uncg.edu/event/smith-active-adult-center-minervas-mobile-health-chariot/2027-09-15/
LOCATION:Smith Active Adult Center
CATEGORIES:Minerva Mobile Health Unit
END:VEVENT
BEGIN:VEVENT
DTSTART;TZID=America/New_York:20271020T100000
DTEND;TZID=America/New_York:20271020T120000
DTSTAMP:20260421T175314
CREATED:20260413T192552Z
LAST-MODIFIED:20260414T215906Z
UID:10003506-1824026400-1824033600@nursing.uncg.edu
SUMMARY:Smith Active Adult Center (Minerva's Mobile Health Chariot)
DESCRIPTION:
URL:https://nursing.uncg.edu/event/smith-active-adult-center-minervas-mobile-health-chariot/2027-10-20/
LOCATION:Smith Active Adult Center
CATEGORIES:Minerva Mobile Health Unit
END:VEVENT
BEGIN:VEVENT
DTSTART;TZID=America/New_York:20271117T100000
DTEND;TZID=America/New_York:20271117T120000
DTSTAMP:20260421T175314
CREATED:20260413T192552Z
LAST-MODIFIED:20260414T215906Z
UID:10003507-1826445600-1826452800@nursing.uncg.edu
SUMMARY:Smith Active Adult Center (Minerva's Mobile Health Chariot)
DESCRIPTION:
URL:https://nursing.uncg.edu/event/smith-active-adult-center-minervas-mobile-health-chariot/2027-11-17/
LOCATION:Smith Active Adult Center
CATEGORIES:Minerva Mobile Health Unit
END:VEVENT
BEGIN:VEVENT
DTSTART;TZID=America/New_York:20271215T100000
DTEND;TZID=America/New_York:20271215T120000
DTSTAMP:20260421T175314
CREATED:20260413T192552Z
LAST-MODIFIED:20260414T215906Z
UID:10003508-1828864800-1828872000@nursing.uncg.edu
SUMMARY:Smith Active Adult Center (Minerva's Mobile Health Chariot)
DESCRIPTION:
URL:https://nursing.uncg.edu/event/smith-active-adult-center-minervas-mobile-health-chariot/2027-12-15/
LOCATION:Smith Active Adult Center
CATEGORIES:Minerva Mobile Health Unit
END:VEVENT
BEGIN:VEVENT
DTSTART;TZID=America/New_York:20280119T100000
DTEND;TZID=America/New_York:20280119T120000
DTSTAMP:20260421T175314
CREATED:20260413T192552Z
LAST-MODIFIED:20260414T215906Z
UID:10003509-1831888800-1831896000@nursing.uncg.edu
SUMMARY:Smith Active Adult Center (Minerva's Mobile Health Chariot)
DESCRIPTION:
URL:https://nursing.uncg.edu/event/smith-active-adult-center-minervas-mobile-health-chariot/2028-01-19/
LOCATION:Smith Active Adult Center
CATEGORIES:Minerva Mobile Health Unit
END:VEVENT
BEGIN:VEVENT
DTSTART;TZID=America/New_York:20280216T100000
DTEND;TZID=America/New_York:20280216T120000
DTSTAMP:20260421T175314
CREATED:20260413T192552Z
LAST-MODIFIED:20260414T215906Z
UID:10003510-1834308000-1834315200@nursing.uncg.edu
SUMMARY:Smith Active Adult Center (Minerva's Mobile Health Chariot)
DESCRIPTION:
URL:https://nursing.uncg.edu/event/smith-active-adult-center-minervas-mobile-health-chariot/2028-02-16/
LOCATION:Smith Active Adult Center
CATEGORIES:Minerva Mobile Health Unit
END:VEVENT
BEGIN:VEVENT
DTSTART;TZID=America/New_York:20280315T100000
DTEND;TZID=America/New_York:20280315T120000
DTSTAMP:20260421T175314
CREATED:20260413T192552Z
LAST-MODIFIED:20260414T215906Z
UID:10003511-1836727200-1836734400@nursing.uncg.edu
SUMMARY:Smith Active Adult Center (Minerva's Mobile Health Chariot)
DESCRIPTION:
URL:https://nursing.uncg.edu/event/smith-active-adult-center-minervas-mobile-health-chariot/2028-03-15/
LOCATION:Smith Active Adult Center
CATEGORIES:Minerva Mobile Health Unit
END:VEVENT
BEGIN:VEVENT
DTSTART;TZID=America/New_York:20280419T100000
DTEND;TZID=America/New_York:20280419T120000
DTSTAMP:20260421T175314
CREATED:20260413T192552Z
LAST-MODIFIED:20260414T215906Z
UID:10003512-1839751200-1839758400@nursing.uncg.edu
SUMMARY:Smith Active Adult Center (Minerva's Mobile Health Chariot)
DESCRIPTION:
URL:https://nursing.uncg.edu/event/smith-active-adult-center-minervas-mobile-health-chariot/2028-04-19/
LOCATION:Smith Active Adult Center
CATEGORIES:Minerva Mobile Health Unit
END:VEVENT
BEGIN:VEVENT
DTSTART;TZID=America/New_York:20280517T100000
DTEND;TZID=America/New_York:20280517T120000
DTSTAMP:20260421T175314
CREATED:20260413T192552Z
LAST-MODIFIED:20260414T215906Z
UID:10003513-1842170400-1842177600@nursing.uncg.edu
SUMMARY:Smith Active Adult Center (Minerva's Mobile Health Chariot)
DESCRIPTION:
URL:https://nursing.uncg.edu/event/smith-active-adult-center-minervas-mobile-health-chariot/2028-05-17/
LOCATION:Smith Active Adult Center
CATEGORIES:Minerva Mobile Health Unit
END:VEVENT
BEGIN:VEVENT
DTSTART;TZID=America/New_York:20280621T100000
DTEND;TZID=America/New_York:20280621T120000
DTSTAMP:20260421T175314
CREATED:20260413T192552Z
LAST-MODIFIED:20260414T215906Z
UID:10003514-1845194400-1845201600@nursing.uncg.edu
SUMMARY:Smith Active Adult Center (Minerva's Mobile Health Chariot)
DESCRIPTION:
URL:https://nursing.uncg.edu/event/smith-active-adult-center-minervas-mobile-health-chariot/2028-06-21/
LOCATION:Smith Active Adult Center
CATEGORIES:Minerva Mobile Health Unit
END:VEVENT
BEGIN:VEVENT
DTSTART;TZID=America/New_York:20280719T100000
DTEND;TZID=America/New_York:20280719T120000
DTSTAMP:20260421T175314
CREATED:20260413T192552Z
LAST-MODIFIED:20260414T215906Z
UID:10003515-1847613600-1847620800@nursing.uncg.edu
SUMMARY:Smith Active Adult Center (Minerva's Mobile Health Chariot)
DESCRIPTION:
URL:https://nursing.uncg.edu/event/smith-active-adult-center-minervas-mobile-health-chariot/2028-07-19/
LOCATION:Smith Active Adult Center
CATEGORIES:Minerva Mobile Health Unit
END:VEVENT
BEGIN:VEVENT
DTSTART;TZID=America/New_York:20280816T100000
DTEND;TZID=America/New_York:20280816T120000
DTSTAMP:20260421T175314
CREATED:20260413T192552Z
LAST-MODIFIED:20260414T215906Z
UID:10003516-1850032800-1850040000@nursing.uncg.edu
SUMMARY:Smith Active Adult Center (Minerva's Mobile Health Chariot)
DESCRIPTION:
URL:https://nursing.uncg.edu/event/smith-active-adult-center-minervas-mobile-health-chariot/2028-08-16/
LOCATION:Smith Active Adult Center
CATEGORIES:Minerva Mobile Health Unit
END:VEVENT
BEGIN:VEVENT
DTSTART;TZID=America/New_York:20280920T100000
DTEND;TZID=America/New_York:20280920T120000
DTSTAMP:20260421T175314
CREATED:20260413T192552Z
LAST-MODIFIED:20260414T215906Z
UID:10003517-1853056800-1853064000@nursing.uncg.edu
SUMMARY:Smith Active Adult Center (Minerva's Mobile Health Chariot)
DESCRIPTION:
URL:https://nursing.uncg.edu/event/smith-active-adult-center-minervas-mobile-health-chariot/2028-09-20/
LOCATION:Smith Active Adult Center
CATEGORIES:Minerva Mobile Health Unit
END:VEVENT
BEGIN:VEVENT
DTSTART;TZID=America/New_York:20281018T100000
DTEND;TZID=America/New_York:20281018T120000
DTSTAMP:20260421T175314
CREATED:20260413T192552Z
LAST-MODIFIED:20260414T215906Z
UID:10003518-1855476000-1855483200@nursing.uncg.edu
SUMMARY:Smith Active Adult Center (Minerva's Mobile Health Chariot)
DESCRIPTION:
URL:https://nursing.uncg.edu/event/smith-active-adult-center-minervas-mobile-health-chariot/2028-10-18/
LOCATION:Smith Active Adult Center
CATEGORIES:Minerva Mobile Health Unit
END:VEVENT
END:VCALENDAR