BEGIN:VCALENDAR
VERSION:2.0
PRODID:-//School of Nursing - ECPv6.15.20//NONSGML v1.0//EN
CALSCALE:GREGORIAN
METHOD:PUBLISH
X-WR-CALNAME:School of Nursing
X-ORIGINAL-URL:https://nursing.uncg.edu
X-WR-CALDESC:Events for School of Nursing
REFRESH-INTERVAL;VALUE=DURATION:PT1H
X-Robots-Tag:noindex
X-PUBLISHED-TTL:PT1H
BEGIN:VTIMEZONE
TZID:America/New_York
BEGIN:DAYLIGHT
TZOFFSETFROM:-0500
TZOFFSETTO:-0400
TZNAME:EDT
DTSTART:20250309T070000
END:DAYLIGHT
BEGIN:STANDARD
TZOFFSETFROM:-0400
TZOFFSETTO:-0500
TZNAME:EST
DTSTART:20251102T060000
END:STANDARD
BEGIN:DAYLIGHT
TZOFFSETFROM:-0500
TZOFFSETTO:-0400
TZNAME:EDT
DTSTART:20260308T070000
END:DAYLIGHT
BEGIN:STANDARD
TZOFFSETFROM:-0400
TZOFFSETTO:-0500
TZNAME:EST
DTSTART:20261101T060000
END:STANDARD
BEGIN:DAYLIGHT
TZOFFSETFROM:-0500
TZOFFSETTO:-0400
TZNAME:EDT
DTSTART:20270314T070000
END:DAYLIGHT
BEGIN:STANDARD
TZOFFSETFROM:-0400
TZOFFSETTO:-0500
TZNAME:EST
DTSTART:20271107T060000
END:STANDARD
END:VTIMEZONE
BEGIN:VEVENT
DTSTART;TZID=America/New_York:20260702T083000
DTEND;TZID=America/New_York:20260702T133000
DTSTAMP:20260423T210636
CREATED:20260413T185627Z
LAST-MODIFIED:20260413T190023Z
UID:10002191-1782981000-1782999000@nursing.uncg.edu
SUMMARY:New Arrivals Institute (Minerva's Mobile Health)
DESCRIPTION:
URL:https://nursing.uncg.edu/event/new-arrivals-institute-minervas-mobile-health/2026-07-02/
LOCATION:New Arrivals Institute\, 2714 W Market St.\, Greensboro\, NC\, 27402\, United States
CATEGORIES:Minerva Mobile Health Unit
END:VEVENT
BEGIN:VEVENT
DTSTART;TZID=America/New_York:20260702T130000
DTEND;TZID=America/New_York:20260702T170000
DTSTAMP:20260423T210636
CREATED:20260413T192748Z
LAST-MODIFIED:20260414T220657Z
UID:10003559-1782997200-1783011600@nursing.uncg.edu
SUMMARY:Partnership Village (Minerva's Mobile Health Chariot)
DESCRIPTION:
URL:https://nursing.uncg.edu/event/partnership-village-minervas-mobile-health-chariot/2026-07-02/
LOCATION:NC
CATEGORIES:Minerva Mobile Health Unit
END:VEVENT
BEGIN:VEVENT
DTSTART;TZID=America/New_York:20260703T150000
DTEND;TZID=America/New_York:20260703T170000
DTSTAMP:20260423T210636
CREATED:20260413T193628Z
LAST-MODIFIED:20260413T193632Z
UID:10004211-1783090800-1783098000@nursing.uncg.edu
SUMMARY:Partnership Village Food Bank (Minerva's Mobile Health Chariot)
DESCRIPTION:
URL:https://nursing.uncg.edu/event/partnership-village-food-bank-minervas-mobile-health-chariot-2/2026-07-03/
LOCATION:135 Greenbriar Rd\, Greensboro\, NC 27405\, NC\, United States
CATEGORIES:Minerva Mobile Health Unit
END:VEVENT
BEGIN:VEVENT
DTSTART;TZID=America/New_York:20260706T080000
DTEND;TZID=America/New_York:20260706T163000
DTSTAMP:20260423T210636
CREATED:20260413T190900Z
LAST-MODIFIED:20260413T191044Z
UID:10002714-1783324800-1783355400@nursing.uncg.edu
SUMMARY:Gateway Plaza Residents Clinic (Minerva's Mobile Health Chariot)
DESCRIPTION:
URL:https://nursing.uncg.edu/event/gateway-plaza-residents-clinic-minervas-mobile-health-chariot/2026-07-06/
LOCATION:Gateway Plaza\, 200 Spring Garden St.\, Greensboro\, North Carolina\, 27401\, United States
CATEGORIES:Minerva Mobile Health Unit
END:VEVENT
BEGIN:VEVENT
DTSTART;TZID=America/New_York:20260706T083000
DTEND;TZID=America/New_York:20260706T160000
DTSTAMP:20260423T210636
CREATED:20260413T191252Z
LAST-MODIFIED:20260413T191255Z
UID:10002975-1783326600-1783353600@nursing.uncg.edu
SUMMARY:Hall Towers Residents Clinic (Minerva's Mobile Health Chariot)
DESCRIPTION:
URL:https://nursing.uncg.edu/event/hall-towers-residents-clinic-minervas-mobile-health-chariot/2026-07-06/
LOCATION:Hall Towers\, 2314 N Church St.\, Greensboro\, North Carolina\, 27405\, United States
CATEGORIES:Minerva Mobile Health Unit
END:VEVENT
BEGIN:VEVENT
DTSTART;TZID=America/New_York:20260707T080000
DTEND;TZID=America/New_York:20260707T170000
DTSTAMP:20260423T210636
CREATED:20260413T190356Z
LAST-MODIFIED:20260414T220749Z
UID:10002453-1783411200-1783443600@nursing.uncg.edu
SUMMARY:Tiny House HOPE Center (Minerva's Mobile Health)
DESCRIPTION:
URL:https://nursing.uncg.edu/event/tiny-house-hope-center/2026-07-07/
LOCATION:Tiny House HOPE Center\, 360 W Gate City Blvd\, Greensboro\, NC\, 27406\, United States
CATEGORIES:Minerva Mobile Health Unit
END:VEVENT
BEGIN:VEVENT
DTSTART;TZID=America/New_York:20260707T083000
DTEND;TZID=America/New_York:20260707T163000
DTSTAMP:20260423T210636
CREATED:20260413T192118Z
LAST-MODIFIED:20260413T192121Z
UID:10003239-1783413000-1783441800@nursing.uncg.edu
SUMMARY:Hampton Homes Residents Clinic (Minerva's Mobile Health Chariot)
DESCRIPTION:
URL:https://nursing.uncg.edu/event/hampton-homes-residents-clinic-minervas-mobile-health-chariot/2026-07-07/
LOCATION:Hampton Homes\, 1300 Ogden St.\, Greensboro\, North Carolina\, 27406\, United States
CATEGORIES:Minerva Mobile Health Unit
END:VEVENT
BEGIN:VEVENT
DTSTART;TZID=America/New_York:20260709T083000
DTEND;TZID=America/New_York:20260709T133000
DTSTAMP:20260423T210636
CREATED:20260413T185627Z
LAST-MODIFIED:20260413T190023Z
UID:10002192-1783585800-1783603800@nursing.uncg.edu
SUMMARY:New Arrivals Institute (Minerva's Mobile Health)
DESCRIPTION:
URL:https://nursing.uncg.edu/event/new-arrivals-institute-minervas-mobile-health/2026-07-09/
LOCATION:New Arrivals Institute\, 2714 W Market St.\, Greensboro\, NC\, 27402\, United States
CATEGORIES:Minerva Mobile Health Unit
END:VEVENT
BEGIN:VEVENT
DTSTART;TZID=America/New_York:20260709T130000
DTEND;TZID=America/New_York:20260709T170000
DTSTAMP:20260423T210636
CREATED:20260413T192748Z
LAST-MODIFIED:20260414T220657Z
UID:10003560-1783602000-1783616400@nursing.uncg.edu
SUMMARY:Partnership Village (Minerva's Mobile Health Chariot)
DESCRIPTION:
URL:https://nursing.uncg.edu/event/partnership-village-minervas-mobile-health-chariot/2026-07-09/
LOCATION:NC
CATEGORIES:Minerva Mobile Health Unit
END:VEVENT
BEGIN:VEVENT
DTSTART;TZID=America/New_York:20260710T133000
DTEND;TZID=America/New_York:20260710T163000
DTSTAMP:20260423T210636
CREATED:20260413T193048Z
LAST-MODIFIED:20260413T193051Z
UID:10003815-1783690200-1783701000@nursing.uncg.edu
SUMMARY:Baptist Temple (Minerva's Mobile Health Chariot)
DESCRIPTION:
URL:https://nursing.uncg.edu/event/baptist-temple-minervas-mobile-health-chariot/2026-07-10/
LOCATION:Baptist Temple\, 729 Wentworth St.\, Reidsville\, NC\, 27320\, United States
CATEGORIES:Minerva Mobile Health Unit
END:VEVENT
BEGIN:VEVENT
DTSTART;TZID=America/New_York:20260710T150000
DTEND;TZID=America/New_York:20260710T170000
DTSTAMP:20260423T210636
CREATED:20260413T193628Z
LAST-MODIFIED:20260413T193632Z
UID:10004212-1783695600-1783702800@nursing.uncg.edu
SUMMARY:Partnership Village Food Bank (Minerva's Mobile Health Chariot)
DESCRIPTION:
URL:https://nursing.uncg.edu/event/partnership-village-food-bank-minervas-mobile-health-chariot-2/2026-07-10/
LOCATION:135 Greenbriar Rd\, Greensboro\, NC 27405\, NC\, United States
CATEGORIES:Minerva Mobile Health Unit
END:VEVENT
BEGIN:VEVENT
DTSTART;TZID=America/New_York:20260713T080000
DTEND;TZID=America/New_York:20260713T163000
DTSTAMP:20260423T210636
CREATED:20260413T190900Z
LAST-MODIFIED:20260413T191044Z
UID:10002715-1783929600-1783960200@nursing.uncg.edu
SUMMARY:Gateway Plaza Residents Clinic (Minerva's Mobile Health Chariot)
DESCRIPTION:
URL:https://nursing.uncg.edu/event/gateway-plaza-residents-clinic-minervas-mobile-health-chariot/2026-07-13/
LOCATION:Gateway Plaza\, 200 Spring Garden St.\, Greensboro\, North Carolina\, 27401\, United States
CATEGORIES:Minerva Mobile Health Unit
END:VEVENT
BEGIN:VEVENT
DTSTART;TZID=America/New_York:20260713T083000
DTEND;TZID=America/New_York:20260713T160000
DTSTAMP:20260423T210636
CREATED:20260413T191252Z
LAST-MODIFIED:20260413T191255Z
UID:10002976-1783931400-1783958400@nursing.uncg.edu
SUMMARY:Hall Towers Residents Clinic (Minerva's Mobile Health Chariot)
DESCRIPTION:
URL:https://nursing.uncg.edu/event/hall-towers-residents-clinic-minervas-mobile-health-chariot/2026-07-13/
LOCATION:Hall Towers\, 2314 N Church St.\, Greensboro\, North Carolina\, 27405\, United States
CATEGORIES:Minerva Mobile Health Unit
END:VEVENT
BEGIN:VEVENT
DTSTART;TZID=America/New_York:20260714T080000
DTEND;TZID=America/New_York:20260714T170000
DTSTAMP:20260423T210636
CREATED:20260413T190356Z
LAST-MODIFIED:20260414T220749Z
UID:10002454-1784016000-1784048400@nursing.uncg.edu
SUMMARY:Tiny House HOPE Center (Minerva's Mobile Health)
DESCRIPTION:
URL:https://nursing.uncg.edu/event/tiny-house-hope-center/2026-07-14/
LOCATION:Tiny House HOPE Center\, 360 W Gate City Blvd\, Greensboro\, NC\, 27406\, United States
CATEGORIES:Minerva Mobile Health Unit
END:VEVENT
BEGIN:VEVENT
DTSTART;TZID=America/New_York:20260714T083000
DTEND;TZID=America/New_York:20260714T163000
DTSTAMP:20260423T210636
CREATED:20260413T192118Z
LAST-MODIFIED:20260413T192121Z
UID:10003240-1784017800-1784046600@nursing.uncg.edu
SUMMARY:Hampton Homes Residents Clinic (Minerva's Mobile Health Chariot)
DESCRIPTION:
URL:https://nursing.uncg.edu/event/hampton-homes-residents-clinic-minervas-mobile-health-chariot/2026-07-14/
LOCATION:Hampton Homes\, 1300 Ogden St.\, Greensboro\, North Carolina\, 27406\, United States
CATEGORIES:Minerva Mobile Health Unit
END:VEVENT
BEGIN:VEVENT
DTSTART;TZID=America/New_York:20260715T100000
DTEND;TZID=America/New_York:20260715T120000
DTSTAMP:20260423T210636
CREATED:20260413T192552Z
LAST-MODIFIED:20260414T215906Z
UID:10003491-1784109600-1784116800@nursing.uncg.edu
SUMMARY:Smith Active Adult Center (Minerva's Mobile Health Chariot)
DESCRIPTION:
URL:https://nursing.uncg.edu/event/smith-active-adult-center-minervas-mobile-health-chariot/2026-07-15/
LOCATION:Smith Active Adult Center
CATEGORIES:Minerva Mobile Health Unit
END:VEVENT
BEGIN:VEVENT
DTSTART;TZID=America/New_York:20260716T083000
DTEND;TZID=America/New_York:20260716T133000
DTSTAMP:20260423T210636
CREATED:20260413T185627Z
LAST-MODIFIED:20260413T190023Z
UID:10002193-1784190600-1784208600@nursing.uncg.edu
SUMMARY:New Arrivals Institute (Minerva's Mobile Health)
DESCRIPTION:
URL:https://nursing.uncg.edu/event/new-arrivals-institute-minervas-mobile-health/2026-07-16/
LOCATION:New Arrivals Institute\, 2714 W Market St.\, Greensboro\, NC\, 27402\, United States
CATEGORIES:Minerva Mobile Health Unit
END:VEVENT
BEGIN:VEVENT
DTSTART;TZID=America/New_York:20260716T130000
DTEND;TZID=America/New_York:20260716T170000
DTSTAMP:20260423T210636
CREATED:20260413T192748Z
LAST-MODIFIED:20260414T220657Z
UID:10003561-1784206800-1784221200@nursing.uncg.edu
SUMMARY:Partnership Village (Minerva's Mobile Health Chariot)
DESCRIPTION:
URL:https://nursing.uncg.edu/event/partnership-village-minervas-mobile-health-chariot/2026-07-16/
LOCATION:NC
CATEGORIES:Minerva Mobile Health Unit
END:VEVENT
BEGIN:VEVENT
DTSTART;TZID=America/New_York:20260717T150000
DTEND;TZID=America/New_York:20260717T170000
DTSTAMP:20260423T210636
CREATED:20260413T193628Z
LAST-MODIFIED:20260413T193632Z
UID:10004213-1784300400-1784307600@nursing.uncg.edu
SUMMARY:Partnership Village Food Bank (Minerva's Mobile Health Chariot)
DESCRIPTION:
URL:https://nursing.uncg.edu/event/partnership-village-food-bank-minervas-mobile-health-chariot-2/2026-07-17/
LOCATION:135 Greenbriar Rd\, Greensboro\, NC 27405\, NC\, United States
CATEGORIES:Minerva Mobile Health Unit
END:VEVENT
BEGIN:VEVENT
DTSTART;TZID=America/New_York:20260720T080000
DTEND;TZID=America/New_York:20260720T163000
DTSTAMP:20260423T210636
CREATED:20260413T190900Z
LAST-MODIFIED:20260413T191044Z
UID:10002716-1784534400-1784565000@nursing.uncg.edu
SUMMARY:Gateway Plaza Residents Clinic (Minerva's Mobile Health Chariot)
DESCRIPTION:
URL:https://nursing.uncg.edu/event/gateway-plaza-residents-clinic-minervas-mobile-health-chariot/2026-07-20/
LOCATION:Gateway Plaza\, 200 Spring Garden St.\, Greensboro\, North Carolina\, 27401\, United States
CATEGORIES:Minerva Mobile Health Unit
END:VEVENT
BEGIN:VEVENT
DTSTART;TZID=America/New_York:20260720T083000
DTEND;TZID=America/New_York:20260720T160000
DTSTAMP:20260423T210636
CREATED:20260413T191252Z
LAST-MODIFIED:20260413T191255Z
UID:10002977-1784536200-1784563200@nursing.uncg.edu
SUMMARY:Hall Towers Residents Clinic (Minerva's Mobile Health Chariot)
DESCRIPTION:
URL:https://nursing.uncg.edu/event/hall-towers-residents-clinic-minervas-mobile-health-chariot/2026-07-20/
LOCATION:Hall Towers\, 2314 N Church St.\, Greensboro\, North Carolina\, 27405\, United States
CATEGORIES:Minerva Mobile Health Unit
END:VEVENT
BEGIN:VEVENT
DTSTART;TZID=America/New_York:20260721T080000
DTEND;TZID=America/New_York:20260721T170000
DTSTAMP:20260423T210636
CREATED:20260413T190356Z
LAST-MODIFIED:20260414T220749Z
UID:10002455-1784620800-1784653200@nursing.uncg.edu
SUMMARY:Tiny House HOPE Center (Minerva's Mobile Health)
DESCRIPTION:
URL:https://nursing.uncg.edu/event/tiny-house-hope-center/2026-07-21/
LOCATION:Tiny House HOPE Center\, 360 W Gate City Blvd\, Greensboro\, NC\, 27406\, United States
CATEGORIES:Minerva Mobile Health Unit
END:VEVENT
BEGIN:VEVENT
DTSTART;TZID=America/New_York:20260721T083000
DTEND;TZID=America/New_York:20260721T163000
DTSTAMP:20260423T210636
CREATED:20260413T192118Z
LAST-MODIFIED:20260413T192121Z
UID:10003241-1784622600-1784651400@nursing.uncg.edu
SUMMARY:Hampton Homes Residents Clinic (Minerva's Mobile Health Chariot)
DESCRIPTION:
URL:https://nursing.uncg.edu/event/hampton-homes-residents-clinic-minervas-mobile-health-chariot/2026-07-21/
LOCATION:Hampton Homes\, 1300 Ogden St.\, Greensboro\, North Carolina\, 27406\, United States
CATEGORIES:Minerva Mobile Health Unit
END:VEVENT
BEGIN:VEVENT
DTSTART;TZID=America/New_York:20260723T083000
DTEND;TZID=America/New_York:20260723T133000
DTSTAMP:20260423T210636
CREATED:20260413T185627Z
LAST-MODIFIED:20260413T190023Z
UID:10002194-1784795400-1784813400@nursing.uncg.edu
SUMMARY:New Arrivals Institute (Minerva's Mobile Health)
DESCRIPTION:
URL:https://nursing.uncg.edu/event/new-arrivals-institute-minervas-mobile-health/2026-07-23/
LOCATION:New Arrivals Institute\, 2714 W Market St.\, Greensboro\, NC\, 27402\, United States
CATEGORIES:Minerva Mobile Health Unit
END:VEVENT
BEGIN:VEVENT
DTSTART;TZID=America/New_York:20260723T130000
DTEND;TZID=America/New_York:20260723T170000
DTSTAMP:20260423T210636
CREATED:20260413T192748Z
LAST-MODIFIED:20260414T220657Z
UID:10003562-1784811600-1784826000@nursing.uncg.edu
SUMMARY:Partnership Village (Minerva's Mobile Health Chariot)
DESCRIPTION:
URL:https://nursing.uncg.edu/event/partnership-village-minervas-mobile-health-chariot/2026-07-23/
LOCATION:NC
CATEGORIES:Minerva Mobile Health Unit
END:VEVENT
BEGIN:VEVENT
DTSTART;TZID=America/New_York:20260724T133000
DTEND;TZID=America/New_York:20260724T163000
DTSTAMP:20260423T210636
CREATED:20260413T193048Z
LAST-MODIFIED:20260413T193051Z
UID:10003816-1784899800-1784910600@nursing.uncg.edu
SUMMARY:Baptist Temple (Minerva's Mobile Health Chariot)
DESCRIPTION:
URL:https://nursing.uncg.edu/event/baptist-temple-minervas-mobile-health-chariot/2026-07-24/
LOCATION:Baptist Temple\, 729 Wentworth St.\, Reidsville\, NC\, 27320\, United States
CATEGORIES:Minerva Mobile Health Unit
END:VEVENT
BEGIN:VEVENT
DTSTART;TZID=America/New_York:20260724T150000
DTEND;TZID=America/New_York:20260724T170000
DTSTAMP:20260423T210636
CREATED:20260413T193628Z
LAST-MODIFIED:20260413T193632Z
UID:10004214-1784905200-1784912400@nursing.uncg.edu
SUMMARY:Partnership Village Food Bank (Minerva's Mobile Health Chariot)
DESCRIPTION:
URL:https://nursing.uncg.edu/event/partnership-village-food-bank-minervas-mobile-health-chariot-2/2026-07-24/
LOCATION:135 Greenbriar Rd\, Greensboro\, NC 27405\, NC\, United States
CATEGORIES:Minerva Mobile Health Unit
END:VEVENT
BEGIN:VEVENT
DTSTART;TZID=America/New_York:20260727T080000
DTEND;TZID=America/New_York:20260727T163000
DTSTAMP:20260423T210636
CREATED:20260413T190900Z
LAST-MODIFIED:20260413T191044Z
UID:10002717-1785139200-1785169800@nursing.uncg.edu
SUMMARY:Gateway Plaza Residents Clinic (Minerva's Mobile Health Chariot)
DESCRIPTION:
URL:https://nursing.uncg.edu/event/gateway-plaza-residents-clinic-minervas-mobile-health-chariot/2026-07-27/
LOCATION:Gateway Plaza\, 200 Spring Garden St.\, Greensboro\, North Carolina\, 27401\, United States
CATEGORIES:Minerva Mobile Health Unit
END:VEVENT
BEGIN:VEVENT
DTSTART;TZID=America/New_York:20260727T083000
DTEND;TZID=America/New_York:20260727T160000
DTSTAMP:20260423T210636
CREATED:20260413T191252Z
LAST-MODIFIED:20260413T191255Z
UID:10002978-1785141000-1785168000@nursing.uncg.edu
SUMMARY:Hall Towers Residents Clinic (Minerva's Mobile Health Chariot)
DESCRIPTION:
URL:https://nursing.uncg.edu/event/hall-towers-residents-clinic-minervas-mobile-health-chariot/2026-07-27/
LOCATION:Hall Towers\, 2314 N Church St.\, Greensboro\, North Carolina\, 27405\, United States
CATEGORIES:Minerva Mobile Health Unit
END:VEVENT
BEGIN:VEVENT
DTSTART;TZID=America/New_York:20260728T080000
DTEND;TZID=America/New_York:20260728T170000
DTSTAMP:20260423T210636
CREATED:20260413T190356Z
LAST-MODIFIED:20260414T220749Z
UID:10002456-1785225600-1785258000@nursing.uncg.edu
SUMMARY:Tiny House HOPE Center (Minerva's Mobile Health)
DESCRIPTION:
URL:https://nursing.uncg.edu/event/tiny-house-hope-center/2026-07-28/
LOCATION:Tiny House HOPE Center\, 360 W Gate City Blvd\, Greensboro\, NC\, 27406\, United States
CATEGORIES:Minerva Mobile Health Unit
END:VEVENT
END:VCALENDAR