BEGIN:VCALENDAR
VERSION:2.0
PRODID:-//School of Nursing - ECPv6.15.20//NONSGML v1.0//EN
CALSCALE:GREGORIAN
METHOD:PUBLISH
X-WR-CALNAME:School of Nursing
X-ORIGINAL-URL:https://nursing.uncg.edu
X-WR-CALDESC:Events for School of Nursing
REFRESH-INTERVAL;VALUE=DURATION:PT1H
X-Robots-Tag:noindex
X-PUBLISHED-TTL:PT1H
BEGIN:VTIMEZONE
TZID:America/New_York
BEGIN:DAYLIGHT
TZOFFSETFROM:-0500
TZOFFSETTO:-0400
TZNAME:EDT
DTSTART:20250309T070000
END:DAYLIGHT
BEGIN:STANDARD
TZOFFSETFROM:-0400
TZOFFSETTO:-0500
TZNAME:EST
DTSTART:20251102T060000
END:STANDARD
BEGIN:DAYLIGHT
TZOFFSETFROM:-0500
TZOFFSETTO:-0400
TZNAME:EDT
DTSTART:20260308T070000
END:DAYLIGHT
BEGIN:STANDARD
TZOFFSETFROM:-0400
TZOFFSETTO:-0500
TZNAME:EST
DTSTART:20261101T060000
END:STANDARD
BEGIN:DAYLIGHT
TZOFFSETFROM:-0500
TZOFFSETTO:-0400
TZNAME:EDT
DTSTART:20270314T070000
END:DAYLIGHT
BEGIN:STANDARD
TZOFFSETFROM:-0400
TZOFFSETTO:-0500
TZNAME:EST
DTSTART:20271107T060000
END:STANDARD
END:VTIMEZONE
BEGIN:VEVENT
DTSTART;TZID=America/New_York:20260601T080000
DTEND;TZID=America/New_York:20260601T163000
DTSTAMP:20260423T210641
CREATED:20260413T190900Z
LAST-MODIFIED:20260413T191044Z
UID:10002709-1780300800-1780331400@nursing.uncg.edu
SUMMARY:Gateway Plaza Residents Clinic (Minerva's Mobile Health Chariot)
DESCRIPTION:
URL:https://nursing.uncg.edu/event/gateway-plaza-residents-clinic-minervas-mobile-health-chariot/2026-06-01/
LOCATION:Gateway Plaza\, 200 Spring Garden St.\, Greensboro\, North Carolina\, 27401\, United States
CATEGORIES:Minerva Mobile Health Unit
END:VEVENT
BEGIN:VEVENT
DTSTART;TZID=America/New_York:20260601T083000
DTEND;TZID=America/New_York:20260601T160000
DTSTAMP:20260423T210641
CREATED:20260413T191252Z
LAST-MODIFIED:20260413T191255Z
UID:10002970-1780302600-1780329600@nursing.uncg.edu
SUMMARY:Hall Towers Residents Clinic (Minerva's Mobile Health Chariot)
DESCRIPTION:
URL:https://nursing.uncg.edu/event/hall-towers-residents-clinic-minervas-mobile-health-chariot/2026-06-01/
LOCATION:Hall Towers\, 2314 N Church St.\, Greensboro\, North Carolina\, 27405\, United States
CATEGORIES:Minerva Mobile Health Unit
END:VEVENT
BEGIN:VEVENT
DTSTART;TZID=America/New_York:20260602T080000
DTEND;TZID=America/New_York:20260602T170000
DTSTAMP:20260423T210641
CREATED:20260413T190356Z
LAST-MODIFIED:20260414T220749Z
UID:10002448-1780387200-1780419600@nursing.uncg.edu
SUMMARY:Tiny House HOPE Center (Minerva's Mobile Health)
DESCRIPTION:
URL:https://nursing.uncg.edu/event/tiny-house-hope-center/2026-06-02/
LOCATION:Tiny House HOPE Center\, 360 W Gate City Blvd\, Greensboro\, NC\, 27406\, United States
CATEGORIES:Minerva Mobile Health Unit
END:VEVENT
BEGIN:VEVENT
DTSTART;TZID=America/New_York:20260602T083000
DTEND;TZID=America/New_York:20260602T163000
DTSTAMP:20260423T210641
CREATED:20260413T192118Z
LAST-MODIFIED:20260413T192121Z
UID:10003234-1780389000-1780417800@nursing.uncg.edu
SUMMARY:Hampton Homes Residents Clinic (Minerva's Mobile Health Chariot)
DESCRIPTION:
URL:https://nursing.uncg.edu/event/hampton-homes-residents-clinic-minervas-mobile-health-chariot/2026-06-02/
LOCATION:Hampton Homes\, 1300 Ogden St.\, Greensboro\, North Carolina\, 27406\, United States
CATEGORIES:Minerva Mobile Health Unit
END:VEVENT
BEGIN:VEVENT
DTSTART;TZID=America/New_York:20260604T083000
DTEND;TZID=America/New_York:20260604T133000
DTSTAMP:20260423T210641
CREATED:20260413T185627Z
LAST-MODIFIED:20260413T190023Z
UID:10002187-1780561800-1780579800@nursing.uncg.edu
SUMMARY:New Arrivals Institute (Minerva's Mobile Health)
DESCRIPTION:
URL:https://nursing.uncg.edu/event/new-arrivals-institute-minervas-mobile-health/2026-06-04/
LOCATION:New Arrivals Institute\, 2714 W Market St.\, Greensboro\, NC\, 27402\, United States
CATEGORIES:Minerva Mobile Health Unit
END:VEVENT
BEGIN:VEVENT
DTSTART;TZID=America/New_York:20260604T130000
DTEND;TZID=America/New_York:20260604T170000
DTSTAMP:20260423T210641
CREATED:20260413T192748Z
LAST-MODIFIED:20260414T220657Z
UID:10003555-1780578000-1780592400@nursing.uncg.edu
SUMMARY:Partnership Village (Minerva's Mobile Health Chariot)
DESCRIPTION:
URL:https://nursing.uncg.edu/event/partnership-village-minervas-mobile-health-chariot/2026-06-04/
LOCATION:NC
CATEGORIES:Minerva Mobile Health Unit
END:VEVENT
BEGIN:VEVENT
DTSTART;TZID=America/New_York:20260605T150000
DTEND;TZID=America/New_York:20260605T170000
DTSTAMP:20260423T210641
CREATED:20260413T193628Z
LAST-MODIFIED:20260413T193632Z
UID:10004207-1780671600-1780678800@nursing.uncg.edu
SUMMARY:Partnership Village Food Bank (Minerva's Mobile Health Chariot)
DESCRIPTION:
URL:https://nursing.uncg.edu/event/partnership-village-food-bank-minervas-mobile-health-chariot-2/2026-06-05/
LOCATION:135 Greenbriar Rd\, Greensboro\, NC 27405\, NC\, United States
CATEGORIES:Minerva Mobile Health Unit
END:VEVENT
BEGIN:VEVENT
DTSTART;TZID=America/New_York:20260608T080000
DTEND;TZID=America/New_York:20260608T163000
DTSTAMP:20260423T210641
CREATED:20260413T190900Z
LAST-MODIFIED:20260413T191044Z
UID:10002710-1780905600-1780936200@nursing.uncg.edu
SUMMARY:Gateway Plaza Residents Clinic (Minerva's Mobile Health Chariot)
DESCRIPTION:
URL:https://nursing.uncg.edu/event/gateway-plaza-residents-clinic-minervas-mobile-health-chariot/2026-06-08/
LOCATION:Gateway Plaza\, 200 Spring Garden St.\, Greensboro\, North Carolina\, 27401\, United States
CATEGORIES:Minerva Mobile Health Unit
END:VEVENT
BEGIN:VEVENT
DTSTART;TZID=America/New_York:20260608T083000
DTEND;TZID=America/New_York:20260608T160000
DTSTAMP:20260423T210641
CREATED:20260413T191252Z
LAST-MODIFIED:20260413T191255Z
UID:10002971-1780907400-1780934400@nursing.uncg.edu
SUMMARY:Hall Towers Residents Clinic (Minerva's Mobile Health Chariot)
DESCRIPTION:
URL:https://nursing.uncg.edu/event/hall-towers-residents-clinic-minervas-mobile-health-chariot/2026-06-08/
LOCATION:Hall Towers\, 2314 N Church St.\, Greensboro\, North Carolina\, 27405\, United States
CATEGORIES:Minerva Mobile Health Unit
END:VEVENT
BEGIN:VEVENT
DTSTART;TZID=America/New_York:20260609T080000
DTEND;TZID=America/New_York:20260609T170000
DTSTAMP:20260423T210641
CREATED:20260413T190356Z
LAST-MODIFIED:20260414T220749Z
UID:10002449-1780992000-1781024400@nursing.uncg.edu
SUMMARY:Tiny House HOPE Center (Minerva's Mobile Health)
DESCRIPTION:
URL:https://nursing.uncg.edu/event/tiny-house-hope-center/2026-06-09/
LOCATION:Tiny House HOPE Center\, 360 W Gate City Blvd\, Greensboro\, NC\, 27406\, United States
CATEGORIES:Minerva Mobile Health Unit
END:VEVENT
BEGIN:VEVENT
DTSTART;TZID=America/New_York:20260609T083000
DTEND;TZID=America/New_York:20260609T163000
DTSTAMP:20260423T210641
CREATED:20260413T192118Z
LAST-MODIFIED:20260413T192121Z
UID:10003235-1780993800-1781022600@nursing.uncg.edu
SUMMARY:Hampton Homes Residents Clinic (Minerva's Mobile Health Chariot)
DESCRIPTION:
URL:https://nursing.uncg.edu/event/hampton-homes-residents-clinic-minervas-mobile-health-chariot/2026-06-09/
LOCATION:Hampton Homes\, 1300 Ogden St.\, Greensboro\, North Carolina\, 27406\, United States
CATEGORIES:Minerva Mobile Health Unit
END:VEVENT
BEGIN:VEVENT
DTSTART;TZID=America/New_York:20260611T083000
DTEND;TZID=America/New_York:20260611T133000
DTSTAMP:20260423T210641
CREATED:20260413T185627Z
LAST-MODIFIED:20260413T190023Z
UID:10002188-1781166600-1781184600@nursing.uncg.edu
SUMMARY:New Arrivals Institute (Minerva's Mobile Health)
DESCRIPTION:
URL:https://nursing.uncg.edu/event/new-arrivals-institute-minervas-mobile-health/2026-06-11/
LOCATION:New Arrivals Institute\, 2714 W Market St.\, Greensboro\, NC\, 27402\, United States
CATEGORIES:Minerva Mobile Health Unit
END:VEVENT
BEGIN:VEVENT
DTSTART;TZID=America/New_York:20260611T130000
DTEND;TZID=America/New_York:20260611T170000
DTSTAMP:20260423T210641
CREATED:20260413T192748Z
LAST-MODIFIED:20260414T220657Z
UID:10003556-1781182800-1781197200@nursing.uncg.edu
SUMMARY:Partnership Village (Minerva's Mobile Health Chariot)
DESCRIPTION:
URL:https://nursing.uncg.edu/event/partnership-village-minervas-mobile-health-chariot/2026-06-11/
LOCATION:NC
CATEGORIES:Minerva Mobile Health Unit
END:VEVENT
BEGIN:VEVENT
DTSTART;TZID=America/New_York:20260612T133000
DTEND;TZID=America/New_York:20260612T163000
DTSTAMP:20260423T210641
CREATED:20260413T193048Z
LAST-MODIFIED:20260413T193051Z
UID:10003813-1781271000-1781281800@nursing.uncg.edu
SUMMARY:Baptist Temple (Minerva's Mobile Health Chariot)
DESCRIPTION:
URL:https://nursing.uncg.edu/event/baptist-temple-minervas-mobile-health-chariot/2026-06-12/
LOCATION:Baptist Temple\, 729 Wentworth St.\, Reidsville\, NC\, 27320\, United States
CATEGORIES:Minerva Mobile Health Unit
END:VEVENT
BEGIN:VEVENT
DTSTART;TZID=America/New_York:20260612T150000
DTEND;TZID=America/New_York:20260612T170000
DTSTAMP:20260423T210641
CREATED:20260413T193628Z
LAST-MODIFIED:20260413T193632Z
UID:10004208-1781276400-1781283600@nursing.uncg.edu
SUMMARY:Partnership Village Food Bank (Minerva's Mobile Health Chariot)
DESCRIPTION:
URL:https://nursing.uncg.edu/event/partnership-village-food-bank-minervas-mobile-health-chariot-2/2026-06-12/
LOCATION:135 Greenbriar Rd\, Greensboro\, NC 27405\, NC\, United States
CATEGORIES:Minerva Mobile Health Unit
END:VEVENT
BEGIN:VEVENT
DTSTART;TZID=America/New_York:20260615T080000
DTEND;TZID=America/New_York:20260615T163000
DTSTAMP:20260423T210641
CREATED:20260413T190900Z
LAST-MODIFIED:20260413T191044Z
UID:10002711-1781510400-1781541000@nursing.uncg.edu
SUMMARY:Gateway Plaza Residents Clinic (Minerva's Mobile Health Chariot)
DESCRIPTION:
URL:https://nursing.uncg.edu/event/gateway-plaza-residents-clinic-minervas-mobile-health-chariot/2026-06-15/
LOCATION:Gateway Plaza\, 200 Spring Garden St.\, Greensboro\, North Carolina\, 27401\, United States
CATEGORIES:Minerva Mobile Health Unit
END:VEVENT
BEGIN:VEVENT
DTSTART;TZID=America/New_York:20260615T083000
DTEND;TZID=America/New_York:20260615T160000
DTSTAMP:20260423T210641
CREATED:20260413T191252Z
LAST-MODIFIED:20260413T191255Z
UID:10002972-1781512200-1781539200@nursing.uncg.edu
SUMMARY:Hall Towers Residents Clinic (Minerva's Mobile Health Chariot)
DESCRIPTION:
URL:https://nursing.uncg.edu/event/hall-towers-residents-clinic-minervas-mobile-health-chariot/2026-06-15/
LOCATION:Hall Towers\, 2314 N Church St.\, Greensboro\, North Carolina\, 27405\, United States
CATEGORIES:Minerva Mobile Health Unit
END:VEVENT
BEGIN:VEVENT
DTSTART;TZID=America/New_York:20260616T080000
DTEND;TZID=America/New_York:20260616T170000
DTSTAMP:20260423T210641
CREATED:20260413T190356Z
LAST-MODIFIED:20260414T220749Z
UID:10002450-1781596800-1781629200@nursing.uncg.edu
SUMMARY:Tiny House HOPE Center (Minerva's Mobile Health)
DESCRIPTION:
URL:https://nursing.uncg.edu/event/tiny-house-hope-center/2026-06-16/
LOCATION:Tiny House HOPE Center\, 360 W Gate City Blvd\, Greensboro\, NC\, 27406\, United States
CATEGORIES:Minerva Mobile Health Unit
END:VEVENT
BEGIN:VEVENT
DTSTART;TZID=America/New_York:20260616T083000
DTEND;TZID=America/New_York:20260616T163000
DTSTAMP:20260423T210641
CREATED:20260413T192118Z
LAST-MODIFIED:20260413T192121Z
UID:10003236-1781598600-1781627400@nursing.uncg.edu
SUMMARY:Hampton Homes Residents Clinic (Minerva's Mobile Health Chariot)
DESCRIPTION:
URL:https://nursing.uncg.edu/event/hampton-homes-residents-clinic-minervas-mobile-health-chariot/2026-06-16/
LOCATION:Hampton Homes\, 1300 Ogden St.\, Greensboro\, North Carolina\, 27406\, United States
CATEGORIES:Minerva Mobile Health Unit
END:VEVENT
BEGIN:VEVENT
DTSTART;TZID=America/New_York:20260617T100000
DTEND;TZID=America/New_York:20260617T120000
DTSTAMP:20260423T210641
CREATED:20260413T192552Z
LAST-MODIFIED:20260414T215906Z
UID:10003490-1781690400-1781697600@nursing.uncg.edu
SUMMARY:Smith Active Adult Center (Minerva's Mobile Health Chariot)
DESCRIPTION:
URL:https://nursing.uncg.edu/event/smith-active-adult-center-minervas-mobile-health-chariot/2026-06-17/
LOCATION:Smith Active Adult Center
CATEGORIES:Minerva Mobile Health Unit
END:VEVENT
BEGIN:VEVENT
DTSTART;TZID=America/New_York:20260618T083000
DTEND;TZID=America/New_York:20260618T133000
DTSTAMP:20260423T210641
CREATED:20260413T185627Z
LAST-MODIFIED:20260413T190023Z
UID:10002189-1781771400-1781789400@nursing.uncg.edu
SUMMARY:New Arrivals Institute (Minerva's Mobile Health)
DESCRIPTION:
URL:https://nursing.uncg.edu/event/new-arrivals-institute-minervas-mobile-health/2026-06-18/
LOCATION:New Arrivals Institute\, 2714 W Market St.\, Greensboro\, NC\, 27402\, United States
CATEGORIES:Minerva Mobile Health Unit
END:VEVENT
BEGIN:VEVENT
DTSTART;TZID=America/New_York:20260618T130000
DTEND;TZID=America/New_York:20260618T170000
DTSTAMP:20260423T210641
CREATED:20260413T192748Z
LAST-MODIFIED:20260414T220657Z
UID:10003557-1781787600-1781802000@nursing.uncg.edu
SUMMARY:Partnership Village (Minerva's Mobile Health Chariot)
DESCRIPTION:
URL:https://nursing.uncg.edu/event/partnership-village-minervas-mobile-health-chariot/2026-06-18/
LOCATION:NC
CATEGORIES:Minerva Mobile Health Unit
END:VEVENT
BEGIN:VEVENT
DTSTART;TZID=America/New_York:20260619T150000
DTEND;TZID=America/New_York:20260619T170000
DTSTAMP:20260423T210641
CREATED:20260413T193628Z
LAST-MODIFIED:20260413T193632Z
UID:10004209-1781881200-1781888400@nursing.uncg.edu
SUMMARY:Partnership Village Food Bank (Minerva's Mobile Health Chariot)
DESCRIPTION:
URL:https://nursing.uncg.edu/event/partnership-village-food-bank-minervas-mobile-health-chariot-2/2026-06-19/
LOCATION:135 Greenbriar Rd\, Greensboro\, NC 27405\, NC\, United States
CATEGORIES:Minerva Mobile Health Unit
END:VEVENT
BEGIN:VEVENT
DTSTART;TZID=America/New_York:20260620T090000
DTEND;TZID=America/New_York:20260620T130000
DTSTAMP:20260423T210641
CREATED:20260414T222343Z
LAST-MODIFIED:20260414T222346Z
UID:10004477-1781946000-1781960400@nursing.uncg.edu
SUMMARY:Brown New Calvary Baptist Church  (Minerva's Mobile Health)
DESCRIPTION:
URL:https://nursing.uncg.edu/event/brown-new-calvary-baptist-church-minervas-mobile-health/
LOCATION:NC
CATEGORIES:Minerva Mobile Health Unit
END:VEVENT
BEGIN:VEVENT
DTSTART;TZID=America/New_York:20260620T110000
DTEND;TZID=America/New_York:20260620T160000
DTSTAMP:20260423T210641
CREATED:20260414T221648Z
LAST-MODIFIED:20260414T221828Z
UID:10004475-1781953200-1781971200@nursing.uncg.edu
SUMMARY:Gibsonville Parks and Recreation (Minerva's Mobile Health Chariot)
DESCRIPTION:
URL:https://nursing.uncg.edu/event/gibsonville-parks-and-recreation/
LOCATION:Gibsonville Parks and Recreation\, 314 Tenth St.\, Gibsonville\, North Carolina\, 27249\, United States
CATEGORIES:Minerva Mobile Health Unit
END:VEVENT
BEGIN:VEVENT
DTSTART;TZID=America/New_York:20260622T080000
DTEND;TZID=America/New_York:20260622T163000
DTSTAMP:20260423T210641
CREATED:20260413T190900Z
LAST-MODIFIED:20260413T191044Z
UID:10002712-1782115200-1782145800@nursing.uncg.edu
SUMMARY:Gateway Plaza Residents Clinic (Minerva's Mobile Health Chariot)
DESCRIPTION:
URL:https://nursing.uncg.edu/event/gateway-plaza-residents-clinic-minervas-mobile-health-chariot/2026-06-22/
LOCATION:Gateway Plaza\, 200 Spring Garden St.\, Greensboro\, North Carolina\, 27401\, United States
CATEGORIES:Minerva Mobile Health Unit
END:VEVENT
BEGIN:VEVENT
DTSTART;TZID=America/New_York:20260622T083000
DTEND;TZID=America/New_York:20260622T160000
DTSTAMP:20260423T210641
CREATED:20260413T191252Z
LAST-MODIFIED:20260413T191255Z
UID:10002973-1782117000-1782144000@nursing.uncg.edu
SUMMARY:Hall Towers Residents Clinic (Minerva's Mobile Health Chariot)
DESCRIPTION:
URL:https://nursing.uncg.edu/event/hall-towers-residents-clinic-minervas-mobile-health-chariot/2026-06-22/
LOCATION:Hall Towers\, 2314 N Church St.\, Greensboro\, North Carolina\, 27405\, United States
CATEGORIES:Minerva Mobile Health Unit
END:VEVENT
BEGIN:VEVENT
DTSTART;TZID=America/New_York:20260623T080000
DTEND;TZID=America/New_York:20260623T170000
DTSTAMP:20260423T210641
CREATED:20260413T190356Z
LAST-MODIFIED:20260414T220749Z
UID:10002451-1782201600-1782234000@nursing.uncg.edu
SUMMARY:Tiny House HOPE Center (Minerva's Mobile Health)
DESCRIPTION:
URL:https://nursing.uncg.edu/event/tiny-house-hope-center/2026-06-23/
LOCATION:Tiny House HOPE Center\, 360 W Gate City Blvd\, Greensboro\, NC\, 27406\, United States
CATEGORIES:Minerva Mobile Health Unit
END:VEVENT
BEGIN:VEVENT
DTSTART;TZID=America/New_York:20260623T083000
DTEND;TZID=America/New_York:20260623T163000
DTSTAMP:20260423T210641
CREATED:20260413T192118Z
LAST-MODIFIED:20260413T192121Z
UID:10003237-1782203400-1782232200@nursing.uncg.edu
SUMMARY:Hampton Homes Residents Clinic (Minerva's Mobile Health Chariot)
DESCRIPTION:
URL:https://nursing.uncg.edu/event/hampton-homes-residents-clinic-minervas-mobile-health-chariot/2026-06-23/
LOCATION:Hampton Homes\, 1300 Ogden St.\, Greensboro\, North Carolina\, 27406\, United States
CATEGORIES:Minerva Mobile Health Unit
END:VEVENT
BEGIN:VEVENT
DTSTART;TZID=America/New_York:20260625T083000
DTEND;TZID=America/New_York:20260625T133000
DTSTAMP:20260423T210641
CREATED:20260413T185627Z
LAST-MODIFIED:20260413T190023Z
UID:10002190-1782376200-1782394200@nursing.uncg.edu
SUMMARY:New Arrivals Institute (Minerva's Mobile Health)
DESCRIPTION:
URL:https://nursing.uncg.edu/event/new-arrivals-institute-minervas-mobile-health/2026-06-25/
LOCATION:New Arrivals Institute\, 2714 W Market St.\, Greensboro\, NC\, 27402\, United States
CATEGORIES:Minerva Mobile Health Unit
END:VEVENT
END:VCALENDAR