BEGIN:VCALENDAR
VERSION:2.0
PRODID:-//School of Nursing - ECPv6.15.20//NONSGML v1.0//EN
CALSCALE:GREGORIAN
METHOD:PUBLISH
X-WR-CALNAME:School of Nursing
X-ORIGINAL-URL:https://nursing.uncg.edu
X-WR-CALDESC:Events for School of Nursing
REFRESH-INTERVAL;VALUE=DURATION:PT1H
X-Robots-Tag:noindex
X-PUBLISHED-TTL:PT1H
BEGIN:VTIMEZONE
TZID:America/New_York
BEGIN:DAYLIGHT
TZOFFSETFROM:-0500
TZOFFSETTO:-0400
TZNAME:EDT
DTSTART:20250309T070000
END:DAYLIGHT
BEGIN:STANDARD
TZOFFSETFROM:-0400
TZOFFSETTO:-0500
TZNAME:EST
DTSTART:20251102T060000
END:STANDARD
BEGIN:DAYLIGHT
TZOFFSETFROM:-0500
TZOFFSETTO:-0400
TZNAME:EDT
DTSTART:20260308T070000
END:DAYLIGHT
BEGIN:STANDARD
TZOFFSETFROM:-0400
TZOFFSETTO:-0500
TZNAME:EST
DTSTART:20261101T060000
END:STANDARD
BEGIN:DAYLIGHT
TZOFFSETFROM:-0500
TZOFFSETTO:-0400
TZNAME:EDT
DTSTART:20270314T070000
END:DAYLIGHT
BEGIN:STANDARD
TZOFFSETFROM:-0400
TZOFFSETTO:-0500
TZNAME:EST
DTSTART:20271107T060000
END:STANDARD
END:VTIMEZONE
BEGIN:VEVENT
DTSTART;TZID=America/New_York:20260501T133000
DTEND;TZID=America/New_York:20260501T163000
DTSTAMP:20260423T210631
CREATED:20260413T193048Z
LAST-MODIFIED:20260413T193051Z
UID:10003810-1777642200-1777653000@nursing.uncg.edu
SUMMARY:Baptist Temple (Minerva's Mobile Health Chariot)
DESCRIPTION:
URL:https://nursing.uncg.edu/event/baptist-temple-minervas-mobile-health-chariot/2026-05-01/
LOCATION:Baptist Temple\, 729 Wentworth St.\, Reidsville\, NC\, 27320\, United States
CATEGORIES:Minerva Mobile Health Unit
END:VEVENT
BEGIN:VEVENT
DTSTART;TZID=America/New_York:20260501T150000
DTEND;TZID=America/New_York:20260501T170000
DTSTAMP:20260423T210631
CREATED:20260413T193628Z
LAST-MODIFIED:20260413T193632Z
UID:10004202-1777647600-1777654800@nursing.uncg.edu
SUMMARY:Partnership Village Food Bank (Minerva's Mobile Health Chariot)
DESCRIPTION:
URL:https://nursing.uncg.edu/event/partnership-village-food-bank-minervas-mobile-health-chariot-2/2026-05-01/
LOCATION:135 Greenbriar Rd\, Greensboro\, NC 27405\, NC\, United States
CATEGORIES:Minerva Mobile Health Unit
END:VEVENT
BEGIN:VEVENT
DTSTART;TZID=America/New_York:20260502T090000
DTEND;TZID=America/New_York:20260502T170000
DTSTAMP:20260423T210631
CREATED:20260414T200333Z
LAST-MODIFIED:20260414T221934Z
UID:10004471-1777712400-1777741200@nursing.uncg.edu
SUMMARY:FaithAction International House (Minerva's Mobile Health Chariot)
DESCRIPTION:
URL:https://nursing.uncg.edu/event/faithaction-international-house/
LOCATION:FaithAction International House\, 1205 Flemming Rd.\, Greensboro\, North Carolina\, 27410\, United States
CATEGORIES:Minerva Mobile Health Unit
END:VEVENT
BEGIN:VEVENT
DTSTART;TZID=America/New_York:20260504T080000
DTEND;TZID=America/New_York:20260504T163000
DTSTAMP:20260423T210631
CREATED:20260413T190900Z
LAST-MODIFIED:20260413T191044Z
UID:10002705-1777881600-1777912200@nursing.uncg.edu
SUMMARY:Gateway Plaza Residents Clinic (Minerva's Mobile Health Chariot)
DESCRIPTION:
URL:https://nursing.uncg.edu/event/gateway-plaza-residents-clinic-minervas-mobile-health-chariot/2026-05-04/
LOCATION:Gateway Plaza\, 200 Spring Garden St.\, Greensboro\, North Carolina\, 27401\, United States
CATEGORIES:Minerva Mobile Health Unit
END:VEVENT
BEGIN:VEVENT
DTSTART;TZID=America/New_York:20260504T083000
DTEND;TZID=America/New_York:20260504T160000
DTSTAMP:20260423T210631
CREATED:20260413T191252Z
LAST-MODIFIED:20260413T191255Z
UID:10002966-1777883400-1777910400@nursing.uncg.edu
SUMMARY:Hall Towers Residents Clinic (Minerva's Mobile Health Chariot)
DESCRIPTION:
URL:https://nursing.uncg.edu/event/hall-towers-residents-clinic-minervas-mobile-health-chariot/2026-05-04/
LOCATION:Hall Towers\, 2314 N Church St.\, Greensboro\, North Carolina\, 27405\, United States
CATEGORIES:Minerva Mobile Health Unit
END:VEVENT
BEGIN:VEVENT
DTSTART;TZID=America/New_York:20260505T080000
DTEND;TZID=America/New_York:20260505T170000
DTSTAMP:20260423T210631
CREATED:20260413T190356Z
LAST-MODIFIED:20260413T191014Z
UID:10002444-1777968000-1778000400@nursing.uncg.edu
SUMMARY:Tiny House HOPE Center
DESCRIPTION:
URL:https://nursing.uncg.edu/event/tiny-house-hope-center/2026-05-05/
LOCATION:Tiny House HOPE Center\, 360 W Gate City Blvd\, Greensboro\, NC\, 27406\, United States
CATEGORIES:Minerva Mobile Health Unit
END:VEVENT
BEGIN:VEVENT
DTSTART;TZID=America/New_York:20260505T083000
DTEND;TZID=America/New_York:20260505T163000
DTSTAMP:20260423T210631
CREATED:20260413T192118Z
LAST-MODIFIED:20260413T192121Z
UID:10003230-1777969800-1777998600@nursing.uncg.edu
SUMMARY:Hampton Homes Residents Clinic (Minerva's Mobile Health Chariot)
DESCRIPTION:
URL:https://nursing.uncg.edu/event/hampton-homes-residents-clinic-minervas-mobile-health-chariot/2026-05-05/
LOCATION:Hampton Homes\, 1300 Ogden St.\, Greensboro\, North Carolina\, 27406\, United States
CATEGORIES:Minerva Mobile Health Unit
END:VEVENT
BEGIN:VEVENT
DTSTART;TZID=America/New_York:20260507T083000
DTEND;TZID=America/New_York:20260507T133000
DTSTAMP:20260423T210631
CREATED:20260413T185627Z
LAST-MODIFIED:20260413T190023Z
UID:10002183-1778142600-1778160600@nursing.uncg.edu
SUMMARY:New Arrivals Institute (Minerva's Mobile Health)
DESCRIPTION:
URL:https://nursing.uncg.edu/event/new-arrivals-institute-minervas-mobile-health/2026-05-07/
LOCATION:New Arrivals Institute\, 2714 W Market St.\, Greensboro\, NC\, 27402\, United States
CATEGORIES:Minerva Mobile Health Unit
END:VEVENT
BEGIN:VEVENT
DTSTART;TZID=America/New_York:20260507T130000
DTEND;TZID=America/New_York:20260507T170000
DTSTAMP:20260423T210631
CREATED:20260413T192748Z
LAST-MODIFIED:20260413T195632Z
UID:10003551-1778158800-1778173200@nursing.uncg.edu
SUMMARY:Partnership Village (Minerva's Mobile Health Chariot)
DESCRIPTION:
URL:https://nursing.uncg.edu/event/partnership-village-minervas-mobile-health-chariot/2026-05-07/
LOCATION:NC
CATEGORIES:Minerva Mobile Health Unit
END:VEVENT
BEGIN:VEVENT
DTSTART;TZID=America/New_York:20260508T150000
DTEND;TZID=America/New_York:20260508T170000
DTSTAMP:20260423T210631
CREATED:20260413T193628Z
LAST-MODIFIED:20260413T193632Z
UID:10004203-1778252400-1778259600@nursing.uncg.edu
SUMMARY:Partnership Village Food Bank (Minerva's Mobile Health Chariot)
DESCRIPTION:
URL:https://nursing.uncg.edu/event/partnership-village-food-bank-minervas-mobile-health-chariot-2/2026-05-08/
LOCATION:135 Greenbriar Rd\, Greensboro\, NC 27405\, NC\, United States
CATEGORIES:Minerva Mobile Health Unit
END:VEVENT
BEGIN:VEVENT
DTSTART;TZID=America/New_York:20260511T080000
DTEND;TZID=America/New_York:20260511T163000
DTSTAMP:20260423T210631
CREATED:20260413T190900Z
LAST-MODIFIED:20260413T191044Z
UID:10002706-1778486400-1778517000@nursing.uncg.edu
SUMMARY:Gateway Plaza Residents Clinic (Minerva's Mobile Health Chariot)
DESCRIPTION:
URL:https://nursing.uncg.edu/event/gateway-plaza-residents-clinic-minervas-mobile-health-chariot/2026-05-11/
LOCATION:Gateway Plaza\, 200 Spring Garden St.\, Greensboro\, North Carolina\, 27401\, United States
CATEGORIES:Minerva Mobile Health Unit
END:VEVENT
BEGIN:VEVENT
DTSTART;TZID=America/New_York:20260511T083000
DTEND;TZID=America/New_York:20260511T160000
DTSTAMP:20260423T210631
CREATED:20260413T191252Z
LAST-MODIFIED:20260413T191255Z
UID:10002967-1778488200-1778515200@nursing.uncg.edu
SUMMARY:Hall Towers Residents Clinic (Minerva's Mobile Health Chariot)
DESCRIPTION:
URL:https://nursing.uncg.edu/event/hall-towers-residents-clinic-minervas-mobile-health-chariot/2026-05-11/
LOCATION:Hall Towers\, 2314 N Church St.\, Greensboro\, North Carolina\, 27405\, United States
CATEGORIES:Minerva Mobile Health Unit
END:VEVENT
BEGIN:VEVENT
DTSTART;TZID=America/New_York:20260512T080000
DTEND;TZID=America/New_York:20260512T170000
DTSTAMP:20260423T210631
CREATED:20260413T190356Z
LAST-MODIFIED:20260414T220749Z
UID:10002445-1778572800-1778605200@nursing.uncg.edu
SUMMARY:Tiny House HOPE Center (Minerva's Mobile Health)
DESCRIPTION:
URL:https://nursing.uncg.edu/event/tiny-house-hope-center/2026-05-12/
LOCATION:Tiny House HOPE Center\, 360 W Gate City Blvd\, Greensboro\, NC\, 27406\, United States
CATEGORIES:Minerva Mobile Health Unit
END:VEVENT
BEGIN:VEVENT
DTSTART;TZID=America/New_York:20260512T083000
DTEND;TZID=America/New_York:20260512T163000
DTSTAMP:20260423T210631
CREATED:20260413T192118Z
LAST-MODIFIED:20260413T192121Z
UID:10003231-1778574600-1778603400@nursing.uncg.edu
SUMMARY:Hampton Homes Residents Clinic (Minerva's Mobile Health Chariot)
DESCRIPTION:
URL:https://nursing.uncg.edu/event/hampton-homes-residents-clinic-minervas-mobile-health-chariot/2026-05-12/
LOCATION:Hampton Homes\, 1300 Ogden St.\, Greensboro\, North Carolina\, 27406\, United States
CATEGORIES:Minerva Mobile Health Unit
END:VEVENT
BEGIN:VEVENT
DTSTART;TZID=America/New_York:20260514T083000
DTEND;TZID=America/New_York:20260514T133000
DTSTAMP:20260423T210631
CREATED:20260413T185627Z
LAST-MODIFIED:20260413T190023Z
UID:10002184-1778747400-1778765400@nursing.uncg.edu
SUMMARY:New Arrivals Institute (Minerva's Mobile Health)
DESCRIPTION:
URL:https://nursing.uncg.edu/event/new-arrivals-institute-minervas-mobile-health/2026-05-14/
LOCATION:New Arrivals Institute\, 2714 W Market St.\, Greensboro\, NC\, 27402\, United States
CATEGORIES:Minerva Mobile Health Unit
END:VEVENT
BEGIN:VEVENT
DTSTART;TZID=America/New_York:20260514T130000
DTEND;TZID=America/New_York:20260514T170000
DTSTAMP:20260423T210631
CREATED:20260413T192748Z
LAST-MODIFIED:20260414T220657Z
UID:10003552-1778763600-1778778000@nursing.uncg.edu
SUMMARY:Partnership Village (Minerva's Mobile Health Chariot)
DESCRIPTION:
URL:https://nursing.uncg.edu/event/partnership-village-minervas-mobile-health-chariot/2026-05-14/
LOCATION:NC
CATEGORIES:Minerva Mobile Health Unit
END:VEVENT
BEGIN:VEVENT
DTSTART;TZID=America/New_York:20260514T153000
DTEND;TZID=America/New_York:20260514T170000
DTSTAMP:20260423T210631
CREATED:20260413T193859Z
LAST-MODIFIED:20260413T193901Z
UID:10004462-1778772600-1778778000@nursing.uncg.edu
SUMMARY:Father's Storehouse (Minerva's Mobile Health Chariot)
DESCRIPTION:
URL:https://nursing.uncg.edu/event/fathers-storehouse-minervas-mobile-health-chariot/2026-05-14/
LOCATION:The Father’s Storehouse\, 609 National Highway\, Thomasville\, NC\, 27360\, United States
CATEGORIES:Minerva Mobile Health Unit
END:VEVENT
BEGIN:VEVENT
DTSTART;TZID=America/New_York:20260515T133000
DTEND;TZID=America/New_York:20260515T163000
DTSTAMP:20260423T210631
CREATED:20260413T193048Z
LAST-MODIFIED:20260413T193051Z
UID:10003811-1778851800-1778862600@nursing.uncg.edu
SUMMARY:Baptist Temple (Minerva's Mobile Health Chariot)
DESCRIPTION:
URL:https://nursing.uncg.edu/event/baptist-temple-minervas-mobile-health-chariot/2026-05-15/
LOCATION:Baptist Temple\, 729 Wentworth St.\, Reidsville\, NC\, 27320\, United States
CATEGORIES:Minerva Mobile Health Unit
END:VEVENT
BEGIN:VEVENT
DTSTART;TZID=America/New_York:20260515T150000
DTEND;TZID=America/New_York:20260515T170000
DTSTAMP:20260423T210631
CREATED:20260413T193628Z
LAST-MODIFIED:20260413T193632Z
UID:10004204-1778857200-1778864400@nursing.uncg.edu
SUMMARY:Partnership Village Food Bank (Minerva's Mobile Health Chariot)
DESCRIPTION:
URL:https://nursing.uncg.edu/event/partnership-village-food-bank-minervas-mobile-health-chariot-2/2026-05-15/
LOCATION:135 Greenbriar Rd\, Greensboro\, NC 27405\, NC\, United States
CATEGORIES:Minerva Mobile Health Unit
END:VEVENT
BEGIN:VEVENT
DTSTART;TZID=America/New_York:20260516T103000
DTEND;TZID=America/New_York:20260516T133000
DTSTAMP:20260423T210631
CREATED:20260414T200610Z
LAST-MODIFIED:20260414T201113Z
UID:10004472-1778927400-1778938200@nursing.uncg.edu
SUMMARY:Gate City 180 (Minerva's Mobile Health Chariot)
DESCRIPTION:
URL:https://nursing.uncg.edu/event/gate-city-180-minervas-mobile-health-chariot/
LOCATION:305 W Gate City Blvd\, 305 W Gate City Blvd.\, Greensboro\, North Carolina\, 27406\, United States
CATEGORIES:Minerva Mobile Health Unit
END:VEVENT
BEGIN:VEVENT
DTSTART;TZID=America/New_York:20260516T140000
DTEND;TZID=America/New_York:20260516T190000
DTSTAMP:20260423T210631
CREATED:20260414T221216Z
LAST-MODIFIED:20260414T221856Z
UID:10004474-1778940000-1778958000@nursing.uncg.edu
SUMMARY:Inner Works\, LLC (Minerva's Mobile Health Chariot)
DESCRIPTION:
URL:https://nursing.uncg.edu/event/inner-works-llc/
LOCATION:Inner Works\, LLC\, 1248 Burnetts Chapel Rd.\, Greensboro\, North Carolina\, 27406\, United States
CATEGORIES:Minerva Mobile Health Unit
END:VEVENT
BEGIN:VEVENT
DTSTART;TZID=America/New_York:20260518T080000
DTEND;TZID=America/New_York:20260518T163000
DTSTAMP:20260423T210631
CREATED:20260413T190900Z
LAST-MODIFIED:20260413T191044Z
UID:10002707-1779091200-1779121800@nursing.uncg.edu
SUMMARY:Gateway Plaza Residents Clinic (Minerva's Mobile Health Chariot)
DESCRIPTION:
URL:https://nursing.uncg.edu/event/gateway-plaza-residents-clinic-minervas-mobile-health-chariot/2026-05-18/
LOCATION:Gateway Plaza\, 200 Spring Garden St.\, Greensboro\, North Carolina\, 27401\, United States
CATEGORIES:Minerva Mobile Health Unit
END:VEVENT
BEGIN:VEVENT
DTSTART;TZID=America/New_York:20260518T083000
DTEND;TZID=America/New_York:20260518T160000
DTSTAMP:20260423T210631
CREATED:20260413T191252Z
LAST-MODIFIED:20260413T191255Z
UID:10002968-1779093000-1779120000@nursing.uncg.edu
SUMMARY:Hall Towers Residents Clinic (Minerva's Mobile Health Chariot)
DESCRIPTION:
URL:https://nursing.uncg.edu/event/hall-towers-residents-clinic-minervas-mobile-health-chariot/2026-05-18/
LOCATION:Hall Towers\, 2314 N Church St.\, Greensboro\, North Carolina\, 27405\, United States
CATEGORIES:Minerva Mobile Health Unit
END:VEVENT
BEGIN:VEVENT
DTSTART;TZID=America/New_York:20260519T080000
DTEND;TZID=America/New_York:20260519T170000
DTSTAMP:20260423T210631
CREATED:20260413T190356Z
LAST-MODIFIED:20260414T220749Z
UID:10002446-1779177600-1779210000@nursing.uncg.edu
SUMMARY:Tiny House HOPE Center (Minerva's Mobile Health)
DESCRIPTION:
URL:https://nursing.uncg.edu/event/tiny-house-hope-center/2026-05-19/
LOCATION:Tiny House HOPE Center\, 360 W Gate City Blvd\, Greensboro\, NC\, 27406\, United States
CATEGORIES:Minerva Mobile Health Unit
END:VEVENT
BEGIN:VEVENT
DTSTART;TZID=America/New_York:20260519T083000
DTEND;TZID=America/New_York:20260519T163000
DTSTAMP:20260423T210631
CREATED:20260413T192118Z
LAST-MODIFIED:20260413T192121Z
UID:10003232-1779179400-1779208200@nursing.uncg.edu
SUMMARY:Hampton Homes Residents Clinic (Minerva's Mobile Health Chariot)
DESCRIPTION:
URL:https://nursing.uncg.edu/event/hampton-homes-residents-clinic-minervas-mobile-health-chariot/2026-05-19/
LOCATION:Hampton Homes\, 1300 Ogden St.\, Greensboro\, North Carolina\, 27406\, United States
CATEGORIES:Minerva Mobile Health Unit
END:VEVENT
BEGIN:VEVENT
DTSTART;TZID=America/New_York:20260520T100000
DTEND;TZID=America/New_York:20260520T120000
DTSTAMP:20260423T210631
CREATED:20260413T192552Z
LAST-MODIFIED:20260414T215906Z
UID:10003489-1779271200-1779278400@nursing.uncg.edu
SUMMARY:Smith Active Adult Center (Minerva's Mobile Health Chariot)
DESCRIPTION:
URL:https://nursing.uncg.edu/event/smith-active-adult-center-minervas-mobile-health-chariot/2026-05-20/
LOCATION:Smith Active Adult Center
CATEGORIES:Minerva Mobile Health Unit
END:VEVENT
BEGIN:VEVENT
DTSTART;TZID=America/New_York:20260521T083000
DTEND;TZID=America/New_York:20260521T133000
DTSTAMP:20260423T210631
CREATED:20260413T185627Z
LAST-MODIFIED:20260413T190023Z
UID:10002185-1779352200-1779370200@nursing.uncg.edu
SUMMARY:New Arrivals Institute (Minerva's Mobile Health)
DESCRIPTION:
URL:https://nursing.uncg.edu/event/new-arrivals-institute-minervas-mobile-health/2026-05-21/
LOCATION:New Arrivals Institute\, 2714 W Market St.\, Greensboro\, NC\, 27402\, United States
CATEGORIES:Minerva Mobile Health Unit
END:VEVENT
BEGIN:VEVENT
DTSTART;TZID=America/New_York:20260521T130000
DTEND;TZID=America/New_York:20260521T170000
DTSTAMP:20260423T210631
CREATED:20260413T192748Z
LAST-MODIFIED:20260414T220657Z
UID:10003553-1779368400-1779382800@nursing.uncg.edu
SUMMARY:Partnership Village (Minerva's Mobile Health Chariot)
DESCRIPTION:
URL:https://nursing.uncg.edu/event/partnership-village-minervas-mobile-health-chariot/2026-05-21/
LOCATION:NC
CATEGORIES:Minerva Mobile Health Unit
END:VEVENT
BEGIN:VEVENT
DTSTART;TZID=America/New_York:20260522T150000
DTEND;TZID=America/New_York:20260522T170000
DTSTAMP:20260423T210631
CREATED:20260413T193628Z
LAST-MODIFIED:20260413T193632Z
UID:10004205-1779462000-1779469200@nursing.uncg.edu
SUMMARY:Partnership Village Food Bank (Minerva's Mobile Health Chariot)
DESCRIPTION:
URL:https://nursing.uncg.edu/event/partnership-village-food-bank-minervas-mobile-health-chariot-2/2026-05-22/
LOCATION:135 Greenbriar Rd\, Greensboro\, NC 27405\, NC\, United States
CATEGORIES:Minerva Mobile Health Unit
END:VEVENT
BEGIN:VEVENT
DTSTART;TZID=America/New_York:20260523T100000
DTEND;TZID=America/New_York:20260523T140000
DTSTAMP:20260423T210631
CREATED:20260413T195526Z
LAST-MODIFIED:20260413T195528Z
UID:10004468-1779530400-1779544800@nursing.uncg.edu
SUMMARY:STEMFest (Minerva's Mobile Health and Minerva's Mobile Health Chariot)
DESCRIPTION:
URL:https://nursing.uncg.edu/event/stemfest-minervas-mobile-health-and-minervas-mobile-health-chariot/
LOCATION:Novant Fieldhouse (First Horizons Coliseum Complex)\, 1921 W Gate City Blvd\, Greensboro\, North Carolina\, 27403\, United States
CATEGORIES:Minerva Mobile Health Unit
END:VEVENT
END:VCALENDAR