BEGIN:VCALENDAR
VERSION:2.0
PRODID:-//School of Nursing - ECPv6.15.20//NONSGML v1.0//EN
CALSCALE:GREGORIAN
METHOD:PUBLISH
X-WR-CALNAME:School of Nursing
X-ORIGINAL-URL:https://nursing.uncg.edu
X-WR-CALDESC:Events for School of Nursing
REFRESH-INTERVAL;VALUE=DURATION:PT1H
X-Robots-Tag:noindex
X-PUBLISHED-TTL:PT1H
BEGIN:VTIMEZONE
TZID:America/New_York
BEGIN:DAYLIGHT
TZOFFSETFROM:-0500
TZOFFSETTO:-0400
TZNAME:EDT
DTSTART:20250309T070000
END:DAYLIGHT
BEGIN:STANDARD
TZOFFSETFROM:-0400
TZOFFSETTO:-0500
TZNAME:EST
DTSTART:20251102T060000
END:STANDARD
BEGIN:DAYLIGHT
TZOFFSETFROM:-0500
TZOFFSETTO:-0400
TZNAME:EDT
DTSTART:20260308T070000
END:DAYLIGHT
BEGIN:STANDARD
TZOFFSETFROM:-0400
TZOFFSETTO:-0500
TZNAME:EST
DTSTART:20261101T060000
END:STANDARD
BEGIN:DAYLIGHT
TZOFFSETFROM:-0500
TZOFFSETTO:-0400
TZNAME:EDT
DTSTART:20270314T070000
END:DAYLIGHT
BEGIN:STANDARD
TZOFFSETFROM:-0400
TZOFFSETTO:-0500
TZNAME:EST
DTSTART:20271107T060000
END:STANDARD
END:VTIMEZONE
BEGIN:VEVENT
DTSTART;TZID=America/New_York:20260504T080000
DTEND;TZID=America/New_York:20260504T163000
DTSTAMP:20260423T203801
CREATED:20260413T190900Z
LAST-MODIFIED:20260413T191044Z
UID:10002705-1777881600-1777912200@nursing.uncg.edu
SUMMARY:Gateway Plaza Residents Clinic (Minerva's Mobile Health Chariot)
DESCRIPTION:
URL:https://nursing.uncg.edu/event/gateway-plaza-residents-clinic-minervas-mobile-health-chariot/2026-05-04/
LOCATION:Gateway Plaza\, 200 Spring Garden St.\, Greensboro\, North Carolina\, 27401\, United States
CATEGORIES:Minerva Mobile Health Unit
END:VEVENT
BEGIN:VEVENT
DTSTART;TZID=America/New_York:20260504T083000
DTEND;TZID=America/New_York:20260504T160000
DTSTAMP:20260423T203801
CREATED:20260413T191252Z
LAST-MODIFIED:20260413T191255Z
UID:10002966-1777883400-1777910400@nursing.uncg.edu
SUMMARY:Hall Towers Residents Clinic (Minerva's Mobile Health Chariot)
DESCRIPTION:
URL:https://nursing.uncg.edu/event/hall-towers-residents-clinic-minervas-mobile-health-chariot/2026-05-04/
LOCATION:Hall Towers\, 2314 N Church St.\, Greensboro\, North Carolina\, 27405\, United States
CATEGORIES:Minerva Mobile Health Unit
END:VEVENT
END:VCALENDAR